BEGIN:VCALENDAR
VERSION:2.0
PRODID:-//City of Columbia OBO - ECPv6.15.15//NONSGML v1.0//EN
CALSCALE:GREGORIAN
METHOD:PUBLISH
X-ORIGINAL-URL:https://obo.columbiasc.gov
X-WR-CALDESC:Events for City of Columbia OBO
REFRESH-INTERVAL;VALUE=DURATION:PT1H
X-Robots-Tag:noindex
X-PUBLISHED-TTL:PT1H
BEGIN:VTIMEZONE
TZID:America/New_York
BEGIN:DAYLIGHT
TZOFFSETFROM:-0500
TZOFFSETTO:-0400
TZNAME:EDT
DTSTART:20250309T070000
END:DAYLIGHT
BEGIN:STANDARD
TZOFFSETFROM:-0400
TZOFFSETTO:-0500
TZNAME:EST
DTSTART:20251102T060000
END:STANDARD
BEGIN:DAYLIGHT
TZOFFSETFROM:-0500
TZOFFSETTO:-0400
TZNAME:EDT
DTSTART:20260308T070000
END:DAYLIGHT
BEGIN:STANDARD
TZOFFSETFROM:-0400
TZOFFSETTO:-0500
TZNAME:EST
DTSTART:20261101T060000
END:STANDARD
BEGIN:DAYLIGHT
TZOFFSETFROM:-0500
TZOFFSETTO:-0400
TZNAME:EDT
DTSTART:20270314T070000
END:DAYLIGHT
BEGIN:STANDARD
TZOFFSETFROM:-0400
TZOFFSETTO:-0500
TZNAME:EST
DTSTART:20271107T060000
END:STANDARD
END:VTIMEZONE
BEGIN:VEVENT
DTSTART;TZID=America/New_York:20260204T120000
DTEND;TZID=America/New_York:20260204T130000
DTSTAMP:20260423T105807
CREATED:20260121T180603Z
LAST-MODIFIED:20260121T180603Z
UID:33804-1770206400-1770210000@obo.columbiasc.gov
SUMMARY:SBE Certification Webinar for Small Businesses
DESCRIPTION:The City of Charleston Small Business Enterprise (SBE) Program and the Charleston County SBE office is hosting a free educational webinar on Wednesday\, February 4th beginning at 12:00 P.M. \nThe webinar will feature certification experts from the City of Charleston and Charleston County and will focus on recent updates to the SBE certification application process and more. \nFor any questions\, contact the City of Charleston Small Business Enterprise office at erc@charleston-sc.gov. \n 
URL:https://obo.columbiasc.gov/event/sbe-certification-webinar-for-small-businesses/
LOCATION:Online Webinar
END:VEVENT
BEGIN:VEVENT
DTSTART;TZID=America/New_York:20260210T110000
DTEND;TZID=America/New_York:20260210T120000
DTSTAMP:20260423T105807
CREATED:20260203T194103Z
LAST-MODIFIED:20260203T194103Z
UID:33828-1770721200-1770724800@obo.columbiasc.gov
SUMMARY:Are You Loan Ready?
DESCRIPTION:  \nJoin the South Carolina Small Business Development Center (SC SBDC) and the U.S. Small Business Administration (SBA) on Tuesday\, February 10th for Are You Loan Ready? \nThis informative online webinar will prepare business owners who are seeking funding to start or grow their businesses!  For more information and to register\, click HERE to go to SC SBDC’s registration page!
URL:https://obo.columbiasc.gov/event/are-you-loan-ready/
LOCATION:Online Webinar
END:VEVENT
BEGIN:VEVENT
DTSTART;TZID=America/New_York:20260219T183000
DTEND;TZID=America/New_York:20260219T193000
DTSTAMP:20260423T105807
CREATED:20260203T194655Z
LAST-MODIFIED:20260203T194705Z
UID:33832-1771525800-1771529400@obo.columbiasc.gov
SUMMARY:EiR Presents: Clarifying Your Business Idea - From Inspiration to Intention
DESCRIPTION:The Richland Library will be hosting the EiR Presents: Clarifying Your Business Idea – From Inspiration to Intention on Thursday\, February 19th beginning at 6:30PM. \nThe Richland Library’s Entrepreneur-in-Residence Deanna Taylor will help aspiring and beginning entrepreneurs move from a general concept to a clear\, focused idea rooted in a real problem and audience. \nFor more information and to register\, click HERE to go to Richland Library’s webpage!
URL:https://obo.columbiasc.gov/event/eir-presents-clarifying-your-business-idea-from-inspiration-to-intention/
LOCATION:Richland Library Main – Auditorium\, 1431 Assembly Street\, Columbia\, SC\, 29201\, United States
END:VEVENT
BEGIN:VEVENT
DTSTART;TZID=America/New_York:20260225T153000
DTEND;TZID=America/New_York:20260225T180000
DTSTAMP:20260423T105807
CREATED:20260205T193621Z
LAST-MODIFIED:20260205T193621Z
UID:33852-1772033400-1772042400@obo.columbiasc.gov
SUMMARY:City of Columbia Procurement & Contracts Forum for Small Businesses
DESCRIPTION:The City of Columbia’s Procurement and Contracts office and DESA\, Inc. will be hosting the City of Columbia Procurement & Contracts Forum for Small Businesses on Wednesday\, February 25th at 3:30PM at the Eau Claire Print Building\, 3907 Ensor Street\, Columbia\, SC 29203. \nDuring this event\, small businesses will learn more on the City’s procurement and contracts process and more information such as upcoming procurement opportunities.  For more information and to register\, click HERE to go to DESA’s Eventbrite page!
URL:https://obo.columbiasc.gov/event/city-of-columbia-procurement-contracts-forum-for-small-businesses/
LOCATION:Eau Claire Print Building\, 3907 Ensor Avenue\, Columbia\, SC\, 29203\, United States
ORGANIZER;CN="DESA%2C Inc.":MAILTO:diane@desainc.com
END:VEVENT
END:VCALENDAR