BEGIN:VCALENDAR
VERSION:2.0
PRODID:-//City of Columbia OBO - ECPv6.15.15//NONSGML v1.0//EN
CALSCALE:GREGORIAN
METHOD:PUBLISH
X-ORIGINAL-URL:https://obo.columbiasc.gov
X-WR-CALDESC:Events for City of Columbia OBO
REFRESH-INTERVAL;VALUE=DURATION:PT1H
X-Robots-Tag:noindex
X-PUBLISHED-TTL:PT1H
BEGIN:VTIMEZONE
TZID:America/New_York
BEGIN:DAYLIGHT
TZOFFSETFROM:-0500
TZOFFSETTO:-0400
TZNAME:EDT
DTSTART:20240310T070000
END:DAYLIGHT
BEGIN:STANDARD
TZOFFSETFROM:-0400
TZOFFSETTO:-0500
TZNAME:EST
DTSTART:20241103T060000
END:STANDARD
BEGIN:DAYLIGHT
TZOFFSETFROM:-0500
TZOFFSETTO:-0400
TZNAME:EDT
DTSTART:20250309T070000
END:DAYLIGHT
BEGIN:STANDARD
TZOFFSETFROM:-0400
TZOFFSETTO:-0500
TZNAME:EST
DTSTART:20251102T060000
END:STANDARD
BEGIN:DAYLIGHT
TZOFFSETFROM:-0500
TZOFFSETTO:-0400
TZNAME:EDT
DTSTART:20260308T070000
END:DAYLIGHT
BEGIN:STANDARD
TZOFFSETFROM:-0400
TZOFFSETTO:-0500
TZNAME:EST
DTSTART:20261101T060000
END:STANDARD
END:VTIMEZONE
BEGIN:VEVENT
DTSTART;TZID=America/New_York:20251113T150000
DTEND;TZID=America/New_York:20251113T163000
DTSTAMP:20260423T151448
CREATED:20251013T143848Z
LAST-MODIFIED:20251013T143848Z
UID:33412-1763046000-1763051400@obo.columbiasc.gov
SUMMARY:Buying a Business: What You Need to Know
DESCRIPTION:The South Carolina Small Business Development Center (SBDC) will be hosting Buying a Business: What You Need to Know webinar on Thursday\, November 13th beginning at 3:00PM. \nRepresentatives from SC SBDC and Crossroads Business Brokers will provide informative information to participants on buying a business and being able to navigate the acquisition process.  For more information and to register\, click HERE to go to the SC SBDC registration page!
URL:https://obo.columbiasc.gov/event/buying-a-business-what-you-need-to-know/
LOCATION:Online Webinar
END:VEVENT
BEGIN:VEVENT
DTSTART;TZID=America/New_York:20251117T180000
DTEND;TZID=America/New_York:20251117T190000
DTSTAMP:20260423T151448
CREATED:20251103T211522Z
LAST-MODIFIED:20251103T211522Z
UID:33504-1763402400-1763406000@obo.columbiasc.gov
SUMMARY:Richland County EiR Presents: The Serial Entrepreneur's Blueprint - Portfolio Building
DESCRIPTION:Richland Library’s Entrepreneur-in-Resident (EiR) presents The Serial Entrepreneur’s Blueprint – Portfolio Building on Monday\, November 17th beginning at 6:00 P.M.! \nJoin Richland Library’s EiR\, Allen Brown and learn to identify\, evaluate\, and strategize for launching multiple ventures. Gain insights into advanced funding and portfolio management for sustained entrepreneurial success. \nFor more information and to register\, click HERE to go to Richland Library’s webpage!
URL:https://obo.columbiasc.gov/event/richland-county-eir-presents-the-serial-entrepreneurs-blueprint-portfolio-building/
LOCATION:Richland Library Main – Auditorium\, 1431 Assembly Street\, Columbia\, SC\, 29201\, United States
END:VEVENT
BEGIN:VEVENT
DTSTART;TZID=America/New_York:20251123T160000
DTEND;TZID=America/New_York:20251123T190000
DTSTAMP:20260423T151448
CREATED:20251112T162020Z
LAST-MODIFIED:20251112T162020Z
UID:33549-1763913600-1763924400@obo.columbiasc.gov
SUMMARY:BizArts Presents: Friends Building
DESCRIPTION:7Sunday in partnership with the City of Columbia’s Office of Business Opportunities will be hosting the November edition of BizArts to be held on Sunday\, November 23rd beginning at 4:00PM at the Keenan House\, 801 Wildwood Avenue\, Columbia\, SC 29203. \nThe November edition of BizArts celebrates the warmth and camaraderie of Thanksgiving and Friendsgiving!  Entrepreneurs and creative can network and develop relationships while empowering each other to build awareness\, capital\, and mutual growth through engaging and collaborative experiences! \nFor more information and to purchase tickets\, you can go to the 7Sunday Eventbrite webpage!
URL:https://obo.columbiasc.gov/event/bizarts-presents-friends-building/
LOCATION:Keenan House\, 801 Wildwood Avenue\, Columbia\, SC\, 29203\, United States
ORGANIZER;CN="Deon Generette's 7Sunday":MAILTO:7sundayg@gmail.com
END:VEVENT
END:VCALENDAR