BEGIN:VCALENDAR
VERSION:2.0
PRODID:-//City of Columbia OBO - ECPv6.15.15//NONSGML v1.0//EN
CALSCALE:GREGORIAN
METHOD:PUBLISH
X-ORIGINAL-URL:https://obo.columbiasc.gov
X-WR-CALDESC:Events for City of Columbia OBO
REFRESH-INTERVAL;VALUE=DURATION:PT1H
X-Robots-Tag:noindex
X-PUBLISHED-TTL:PT1H
BEGIN:VTIMEZONE
TZID:America/New_York
BEGIN:DAYLIGHT
TZOFFSETFROM:-0500
TZOFFSETTO:-0400
TZNAME:EDT
DTSTART:20240310T070000
END:DAYLIGHT
BEGIN:STANDARD
TZOFFSETFROM:-0400
TZOFFSETTO:-0500
TZNAME:EST
DTSTART:20241103T060000
END:STANDARD
BEGIN:DAYLIGHT
TZOFFSETFROM:-0500
TZOFFSETTO:-0400
TZNAME:EDT
DTSTART:20250309T070000
END:DAYLIGHT
BEGIN:STANDARD
TZOFFSETFROM:-0400
TZOFFSETTO:-0500
TZNAME:EST
DTSTART:20251102T060000
END:STANDARD
BEGIN:DAYLIGHT
TZOFFSETFROM:-0500
TZOFFSETTO:-0400
TZNAME:EDT
DTSTART:20260308T070000
END:DAYLIGHT
BEGIN:STANDARD
TZOFFSETFROM:-0400
TZOFFSETTO:-0500
TZNAME:EST
DTSTART:20261101T060000
END:STANDARD
END:VTIMEZONE
BEGIN:VEVENT
DTSTART;TZID=America/New_York:20250205T080000
DTEND;TZID=America/New_York:20250205T090000
DTSTAMP:20260424T040043
CREATED:20250124T144302Z
LAST-MODIFIED:20250124T144302Z
UID:32641-1738742400-1738746000@obo.columbiasc.gov
SUMMARY:Gather and Grow Downtown: Handshakes and Headshots - The Value of Your Relationships and Free Professional Headshots
DESCRIPTION:The Columbia Chamber of Commerce will host the Gather and Grow: Downtown event on Wednesday\, February 5th beginning at 8:00AM! \nThe theme of this event is Handshakes and Headshots: The Value of Your Relationships.  Whether a firm handshake or confident headshot\, every connection tells a story to strengthen your social capital and improve your ability to connect with the right people. \nRon Harvey of Global Core Strategies & Consulting\, LLC will be the featured speaker during this event and free professional headshots will be taken!  For more information and to register\, click HERE to go to the Columbia Chamber registration page!
URL:https://obo.columbiasc.gov/event/gather-and-grow-downtown-handshakes-and-headshots-the-value-of-your-relationships-and-free-professional-headshots/
LOCATION:Segra Park – Columbia Fireflies Stadium\, 1640 Freed Street\, Columbia\, SC\, 29201\, United States
END:VEVENT
BEGIN:VEVENT
DTSTART;TZID=America/New_York:20250213T130000
DTEND;TZID=America/New_York:20250213T140000
DTSTAMP:20260424T040043
CREATED:20250203T202547Z
LAST-MODIFIED:20250203T202547Z
UID:32684-1739451600-1739455200@obo.columbiasc.gov
SUMMARY:Bookkeeping Basics for Small Business Owners
DESCRIPTION:Midlands SCORE will present the Bookkeeping Basics for Small Business Owners workshop on Thursday\, February 13th beginning at 1:00PM! \nThis online webinar will help small business owners understand bookkeeping basics and ensuring your small business long term success! \nFor more information and to register\, click here to go to the Midlands SCORE webpage!
URL:https://obo.columbiasc.gov/event/bookkeeping-basics-for-small-business-owners/
LOCATION:Online Webinar
END:VEVENT
BEGIN:VEVENT
DTSTART;TZID=America/New_York:20250225T090000
DTEND;TZID=America/New_York:20250225T163000
DTSTAMP:20260424T040043
CREATED:20250114T183549Z
LAST-MODIFIED:20250114T183549Z
UID:32597-1740474000-1740501000@obo.columbiasc.gov
SUMMARY:2025 SC Automotive B2B Supplier Matchmaker Event
DESCRIPTION:The South Carolina Department of Commerce will be hosting the 2025 SC Automotive B2B Supplier Matchmaker Event on Tuesday\, February 25th at the Hyatt Regency Hotel\, Greenville\, SC. \nDuring this event\, participants will have the opportunity to meet with leading OEMs and Tier 1 companies in the automotive industry!  There will also be one-on-one meetings (prescheduled) with top automotive industry decision makers\, access to educational sessions and a meet and greet reception\, and more! \nFor more information and to register\, click here to go to the SC Department of Commerce Eventbrite page! \n 
URL:https://obo.columbiasc.gov/event/2025-sc-automotive-b2b-supplier-matchmaker-event/
LOCATION:Hyatt Regency Hotel\, 220 North Main Street\, Greenville\, SC\, 29061\, United States
ORGANIZER;CN="South Carolina Department of Commerce":MAILTO:SmallBizSupport@sccommerce.com
END:VEVENT
END:VCALENDAR