BEGIN:VCALENDAR
VERSION:2.0
PRODID:-//City of Columbia OBO - ECPv6.15.15//NONSGML v1.0//EN
CALSCALE:GREGORIAN
METHOD:PUBLISH
X-ORIGINAL-URL:https://obo.columbiasc.gov
X-WR-CALDESC:Events for City of Columbia OBO
REFRESH-INTERVAL;VALUE=DURATION:PT1H
X-Robots-Tag:noindex
X-PUBLISHED-TTL:PT1H
BEGIN:VTIMEZONE
TZID:America/New_York
BEGIN:DAYLIGHT
TZOFFSETFROM:-0500
TZOFFSETTO:-0400
TZNAME:EDT
DTSTART:20230312T070000
END:DAYLIGHT
BEGIN:STANDARD
TZOFFSETFROM:-0400
TZOFFSETTO:-0500
TZNAME:EST
DTSTART:20231105T060000
END:STANDARD
BEGIN:DAYLIGHT
TZOFFSETFROM:-0500
TZOFFSETTO:-0400
TZNAME:EDT
DTSTART:20240310T070000
END:DAYLIGHT
BEGIN:STANDARD
TZOFFSETFROM:-0400
TZOFFSETTO:-0500
TZNAME:EST
DTSTART:20241103T060000
END:STANDARD
BEGIN:DAYLIGHT
TZOFFSETFROM:-0500
TZOFFSETTO:-0400
TZNAME:EDT
DTSTART:20250309T070000
END:DAYLIGHT
BEGIN:STANDARD
TZOFFSETFROM:-0400
TZOFFSETTO:-0500
TZNAME:EST
DTSTART:20251102T060000
END:STANDARD
END:VTIMEZONE
BEGIN:VEVENT
DTSTART;TZID=America/New_York:20241102T103000
DTEND;TZID=America/New_York:20241102T170000
DTSTAMP:20260424T084255
CREATED:20241024T125254Z
LAST-MODIFIED:20241024T125254Z
UID:32337-1730543400-1730566800@obo.columbiasc.gov
SUMMARY:Camera Ready 101: Public Speaking and Branding Workshop
DESCRIPTION:Sierra Artemus of WIS News 10 will be hosting the Camera Ready 101: Public Speaking and Branding Workshop on Saturday\, November 2nd beginning at 10:30AM at Earlewood Park Community Center! \nJoin Sierra and special guests Roshanda Pratt and Janet Parker on what you need to know to improve your public speaking and branding skills for your small business! \nFor more information\, go to Sierra’s website sierraartemus.com for more information!
URL:https://obo.columbiasc.gov/event/camera-ready-101-public-speaking-and-branding-workshop/
LOCATION:Earlewood Park Community Center\, 1113 Recreation Drive\, Columbia\, SC\, 29203\, United States
END:VEVENT
BEGIN:VEVENT
DTSTART;TZID=America/New_York:20241111T173000
DTEND;TZID=America/New_York:20241111T193000
DTSTAMP:20260424T084255
CREATED:20241105T130806Z
LAST-MODIFIED:20241105T130806Z
UID:32383-1731346200-1731353400@obo.columbiasc.gov
SUMMARY:Mayor Rickenmann's Second Town Hall Tour
DESCRIPTION:Join Mayor Daniel Rickenmann and members of Columbia City Council for the Mayor’s Second Town Hall Tour!  This tour will begin on Monday\, November 11th!  Click here for more information!
URL:https://obo.columbiasc.gov/event/mayor-rickenmanns-second-town-hall-tour/
LOCATION:Woodland Park\, 6500 Olde Knight Parkway\, Columbia\, SC\, 29209\, United States
ORGANIZER;CN="City of Columbia":MAILTO:District1@Columbiasc.gov
END:VEVENT
BEGIN:VEVENT
DTSTART;TZID=America/New_York:20241112T140000
DTEND;TZID=America/New_York:20241112T160000
DTSTAMP:20260424T084255
CREATED:20241105T130917Z
LAST-MODIFIED:20241105T130917Z
UID:32386-1731420000-1731427200@obo.columbiasc.gov
SUMMARY:Mayor Rickenmann's Second Town Hall Tour
DESCRIPTION:Join Mayor Daniel Rickenmann and members of Columbia City Council for the Mayor’s Second Town Hall Tour!  This tour will begin on Monday\, November 11th!  Click here for more information!
URL:https://obo.columbiasc.gov/event/mayor-rickenmanns-second-town-hall-tour-2/
LOCATION:Columbia Metropolitan Convention Center\, 1101 Lincoln Street\, Columbia\, 29201
ORGANIZER;CN="City of Columbia":MAILTO:District1@Columbiasc.gov
END:VEVENT
BEGIN:VEVENT
DTSTART;TZID=America/New_York:20241113T173000
DTEND;TZID=America/New_York:20241113T193000
DTSTAMP:20260424T084255
CREATED:20241105T131032Z
LAST-MODIFIED:20241105T131032Z
UID:32388-1731519000-1731526200@obo.columbiasc.gov
SUMMARY:Mayor Rickenmann's Second Town Hall Tour
DESCRIPTION:Join Mayor Daniel Rickenmann and members of Columbia City Council for the Mayor’s Second Town Hall Tour!  This tour will begin on Monday\, November 11th!  Click here for more information!
URL:https://obo.columbiasc.gov/event/mayor-rickenmanns-second-town-hall-tour-3/
LOCATION:Busby Street Community Center\, 1735 Busby Streeet\, Columbia\, SC\, 29203\, United States
ORGANIZER;CN="City of Columbia":MAILTO:District1@Columbiasc.gov
END:VEVENT
BEGIN:VEVENT
DTSTART;TZID=America/New_York:20241114T100000
DTEND;TZID=America/New_York:20241114T130000
DTSTAMP:20260424T084255
CREATED:20241104T194047Z
LAST-MODIFIED:20241104T194047Z
UID:32376-1731578400-1731589200@obo.columbiasc.gov
SUMMARY:Veterans Small Business Resources Fair
DESCRIPTION:The U.S. Small Business Administration (SBA) will be hosting a Veterans Small Business Resources Fair on Thursday\, November 14th beginning at 10:00AM – 1:00Pm at the Richland Library (Main Campus) Auditorium!  This is a free event\, but registration is required! \nRepresentatives from SCORE\, Small Business Development Center\, Women’s Business Center\, S.C. City of Columbia Office of Business Opportunities\, S.C. Dept. of Commerce\, S.C.\, Richland County Office of Small Business Opportunity\, S.C. Division of Small and Minority Business Contracting and Certification\, Richland Library – Business & Careers\, U.S. Veteran Affairs\, Richland County Veteran Affairs and Palmetto Patriot Entrepreneur Network will be in attendance.  Although the event is targeted to veterans\, everyone is welcome to attend! \nFor more information and to register\, click here to go to the SBA Eventbrite page!
URL:https://obo.columbiasc.gov/event/veterans-small-business-resources-fair/
LOCATION:Richland Library Main – Auditorium\, 1431 Assembly Street\, Columbia\, SC\, 29201\, United States
END:VEVENT
BEGIN:VEVENT
DTSTART;TZID=America/New_York:20241119T083000
DTEND;TZID=America/New_York:20241119T093000
DTSTAMP:20260424T084255
CREATED:20241111T161741Z
LAST-MODIFIED:20241111T161741Z
UID:32405-1732005000-1732008600@obo.columbiasc.gov
SUMMARY:Columbia Chamber Small Business Breakout
DESCRIPTION:The Columbia Chamber of Commerce will be hosting their Small Business Breakout on Tuesday\, November 19th at Segra Park! \nCelebrate the season and the spirit of our small business community with us at November’s Small Business Breakout! Join local entrepreneurs and business owners for a festive morning filled with networking\, recognition\, and holiday cheer as we showcase the invaluable role small businesses play in our community. \nKick off your day with a delicious breakfast that will energize you for a morning of connections and conversations. Network with fellow Chamber Partners\, share your holiday offerings\, and discover new ways to support one another. And don’t miss the highlight of the event—the announcement of our Small Business of the Year Award recipient! This prestigious award will go to a Chamber Partner that has gone above and beyond to make a lasting impact on our community. \nThe City of Columbia’s Office of Business Opportunities will be one of the vendors participating in this event to provide information and resources to small business owners and entrepreneurs who attend this event! \nFor more information and to register\, click here to go to the Columbia Chamber Events webpage!
URL:https://obo.columbiasc.gov/event/columbia-chamber-small-business-breakout-2/
LOCATION:Segra Park – Columbia Fireflies Stadium\, 1640 Freed Street\, Columbia\, SC\, 29201\, United States
END:VEVENT
END:VCALENDAR