BEGIN:VCALENDAR
VERSION:2.0
PRODID:-//City of Columbia OBO - ECPv6.15.15//NONSGML v1.0//EN
CALSCALE:GREGORIAN
METHOD:PUBLISH
X-ORIGINAL-URL:https://obo.columbiasc.gov
X-WR-CALDESC:Events for City of Columbia OBO
REFRESH-INTERVAL;VALUE=DURATION:PT1H
X-Robots-Tag:noindex
X-PUBLISHED-TTL:PT1H
BEGIN:VTIMEZONE
TZID:America/New_York
BEGIN:DAYLIGHT
TZOFFSETFROM:-0500
TZOFFSETTO:-0400
TZNAME:EDT
DTSTART:20230312T070000
END:DAYLIGHT
BEGIN:STANDARD
TZOFFSETFROM:-0400
TZOFFSETTO:-0500
TZNAME:EST
DTSTART:20231105T060000
END:STANDARD
BEGIN:DAYLIGHT
TZOFFSETFROM:-0500
TZOFFSETTO:-0400
TZNAME:EDT
DTSTART:20240310T070000
END:DAYLIGHT
BEGIN:STANDARD
TZOFFSETFROM:-0400
TZOFFSETTO:-0500
TZNAME:EST
DTSTART:20241103T060000
END:STANDARD
BEGIN:DAYLIGHT
TZOFFSETFROM:-0500
TZOFFSETTO:-0400
TZNAME:EDT
DTSTART:20250309T070000
END:DAYLIGHT
BEGIN:STANDARD
TZOFFSETFROM:-0400
TZOFFSETTO:-0500
TZNAME:EST
DTSTART:20251102T060000
END:STANDARD
END:VTIMEZONE
BEGIN:VEVENT
DTSTART;TZID=America/New_York:20240709T130000
DTEND;TZID=America/New_York:20240709T143000
DTSTAMP:20260424T160651
CREATED:20240625T132002Z
LAST-MODIFIED:20240625T132002Z
UID:31939-1720530000-1720535400@obo.columbiasc.gov
SUMMARY:How to Scale Your Business - 5 Steps to Business Growth
DESCRIPTION:Join Midlands SCORE on July 9th to learn more about scaling your business! \nGrowing a business requires time\, planning\, and focus which are often lacking for business owners.  You don’t have to do it on your own!  Join this webinar and discover the five essential steps to scale your business! \nFor more information and to register\, click on the link to Midlands SCORE webpage! 
URL:https://obo.columbiasc.gov/event/how-to-scale-your-business-5-steps-to-business-growth/
LOCATION:Online Webinar
END:VEVENT
BEGIN:VEVENT
DTSTART;TZID=America/New_York:20240710T093000
DTEND;TZID=America/New_York:20240710T110000
DTSTAMP:20260424T160651
CREATED:20240701T154746Z
LAST-MODIFIED:20240701T154746Z
UID:31963-1720603800-1720609200@obo.columbiasc.gov
SUMMARY:CAP Carolinas Summer Webinar Series
DESCRIPTION:  \nThe SC Council of Competitiveness will be hosting the CAP Carolinas Summer Webinar Series from July 10 – August 15\, 2024!  The purpose of this three part series is to provide a comprehensive overview of various financing options for tech start-ups and small businesses at different stages of growth in South Carolina!  Topics include early-stage private financing options\, state and federal funds\, venture capital resources\, and more! \nFor more information and to register for a session\, click here to go to the CAP Carolinas Summer Webinar Series webpage!
URL:https://obo.columbiasc.gov/event/cap-carolinas-summer-webinar-series/
LOCATION:Online Webinar
ORGANIZER;CN="SC Council On Competitiveness":MAILTO:office@sccompetes.org
END:VEVENT
BEGIN:VEVENT
DTSTART;TZID=America/New_York:20240710T120000
DTEND;TZID=America/New_York:20240710T130000
DTSTAMP:20260424T160651
CREATED:20240625T132745Z
LAST-MODIFIED:20240625T132745Z
UID:31943-1720612800-1720616400@obo.columbiasc.gov
SUMMARY:Starting Your Business with Data Protection
DESCRIPTION:  \nThe South Carolina Small Business Development Center (SBDC) will host the Starting Your Business with Data Protection workshop on Wednesday\, July 10th beginning at 12:00PM! \nThis online webinar will provide small business owners important information on protecting their business!  Participants will learn information on self-audit\, malice protection\, email protection and more! \nFor more information and to register\, click here to go to SC SBDC Events webpage!
URL:https://obo.columbiasc.gov/event/starting-your-business-with-data-protection/
LOCATION:Online Webinar
END:VEVENT
BEGIN:VEVENT
DTSTART;TZID=America/New_York:20240712T100000
DTEND;TZID=America/New_York:20240712T130000
DTSTAMP:20260424T160651
CREATED:20240703T124635Z
LAST-MODIFIED:20240703T124635Z
UID:31971-1720778400-1720789200@obo.columbiasc.gov
SUMMARY:Minority & Veteran Small Business Expo
DESCRIPTION:  \n \n  \nThe U.S. Small Business Administration along with Congressman James E. Clyburn will be hosting the Minority & Veteran Small Business Expo on Friday\, July 12th! \nThis is a free event\, but registration is required. \nFor more information and to register\, click here to go to the Minority & Small Business Expo registration page!
URL:https://obo.columbiasc.gov/event/minority-veteran-small-business-expo/
LOCATION:The Continuum\, 208 West Main Street\, Lake City\, SC\, United States
END:VEVENT
BEGIN:VEVENT
DTSTART;TZID=America/New_York:20240716T160000
DTEND;TZID=America/New_York:20240716T173000
DTSTAMP:20260424T160651
CREATED:20240702T151422Z
LAST-MODIFIED:20240703T184213Z
UID:31968-1721145600-1721151000@obo.columbiasc.gov
SUMMARY:Virtual DBE Outreach Carolina Crossroads Project Phase 3B
DESCRIPTION:The South Carolina Department of Transportation (SCDOT) is inviting DBE firms to attend a virtual outreach event for Phase 3B of the Carolina Crossroads project.  Participants will receive details about the various phases of the Carolina Crossroads Program and the scope of work for Phase 3B.  The scope opportunities include construction services and potential supply and support services! \nThis phase will not require design or professional services.  Registration is required to attend. \nTo register for this event\, click here to go to SC MBDA’s Zoom page!
URL:https://obo.columbiasc.gov/event/31968/
LOCATION:Online Webinar
ORGANIZER;CN="South Carolina Department of Transportation":MAILTO:scdbegoals@thinkfsc.com
END:VEVENT
END:VCALENDAR