BEGIN:VCALENDAR
VERSION:2.0
PRODID:-//City of Columbia OBO - ECPv6.15.15//NONSGML v1.0//EN
CALSCALE:GREGORIAN
METHOD:PUBLISH
X-ORIGINAL-URL:https://obo.columbiasc.gov
X-WR-CALDESC:Events for City of Columbia OBO
REFRESH-INTERVAL;VALUE=DURATION:PT1H
X-Robots-Tag:noindex
X-PUBLISHED-TTL:PT1H
BEGIN:VTIMEZONE
TZID:America/New_York
BEGIN:DAYLIGHT
TZOFFSETFROM:-0500
TZOFFSETTO:-0400
TZNAME:EDT
DTSTART:20230312T070000
END:DAYLIGHT
BEGIN:STANDARD
TZOFFSETFROM:-0400
TZOFFSETTO:-0500
TZNAME:EST
DTSTART:20231105T060000
END:STANDARD
BEGIN:DAYLIGHT
TZOFFSETFROM:-0500
TZOFFSETTO:-0400
TZNAME:EDT
DTSTART:20240310T070000
END:DAYLIGHT
BEGIN:STANDARD
TZOFFSETFROM:-0400
TZOFFSETTO:-0500
TZNAME:EST
DTSTART:20241103T060000
END:STANDARD
BEGIN:DAYLIGHT
TZOFFSETFROM:-0500
TZOFFSETTO:-0400
TZNAME:EDT
DTSTART:20250309T070000
END:DAYLIGHT
BEGIN:STANDARD
TZOFFSETFROM:-0400
TZOFFSETTO:-0500
TZNAME:EST
DTSTART:20251102T060000
END:STANDARD
END:VTIMEZONE
BEGIN:VEVENT
DTSTART;TZID=America/New_York:20240604T083000
DTEND;TZID=America/New_York:20240604T113000
DTSTAMP:20260424T174646
CREATED:20240425T154453Z
LAST-MODIFIED:20240425T154453Z
UID:31705-1717489800-1717500600@obo.columbiasc.gov
SUMMARY:Boost Your Business: Apprenticeships and Workforce Resources for Small Businesses
DESCRIPTION:  \nAre you a small business owner ready to grow your team’s talent?  Are you trying to grow your business instead of juggling endless roles?  Apprenticeship Carolina will be hosting information sessions across the state in May!  Participants will have the opportunity to network with small business owners and applicable resources to enhance their ability to grow and upskill your organization’s talent through registered apprenticeship! \nThe sessions will be held at the following locations and dates: \nMay 7\, 2024 – Colleton County School District\, Walterboro\, SC \nMay 29\, 2024 – Brookland Baptist Banquet & Conference Center\, West Columbia\, SC \nJune 4\, 2024 – Student Success Center\, Greenville Technical College\, Greenville\, SC \nClick on one of the links above to register for the session near you! \nFor any questions or more information\, contact Kirsten Pratt\, Associate VP\, Division of Apprenticeship Carolina\, SC Technical College System at (803)545-4938!
URL:https://obo.columbiasc.gov/event/boost-your-business-apprenticeships-and-workforce-resources-for-small-businesses-3/
LOCATION:Student Success Center\, Greenville Technical College\, 506 S Pleasantburg Drive\, Greenville\, SC\, 29607\, United States
END:VEVENT
BEGIN:VEVENT
DTSTART;TZID=America/New_York:20240604T090000
DTEND;TZID=America/New_York:20240604T120000
DTSTAMP:20260424T174646
CREATED:20240528T114255Z
LAST-MODIFIED:20240528T114255Z
UID:31847-1717491600-1717502400@obo.columbiasc.gov
SUMMARY:Small Business Development Summer Session
DESCRIPTION:Join the SC Department of Commerce in collaboration with the Fairfield County Chamber of Commerce on Tuesday\, June 4th for their Small Business Development Summer Session!  Representatives from the U.S. Small Business Administration (SC District Office)\, SC Department of Employment and Workforce (SC DEW)\, and the Internal Revenue Service (IRS) for this informative session on marketing your business\, insuring your business\, and providing information on income tax filings! \nFor more information\, contact the Fairfield County Chamber of Commerce at info@chamberfc.com or call their office at (803)635-4242.  You can also go to the Fairfield County Chamber of Commerce website!
URL:https://obo.columbiasc.gov/event/small-business-development-summer-session/
LOCATION:Midlands Technical College Fairfield Campus\, 1674 U.S. 321 Bypass\, Winnsboro\, SC\, 29180\, United States
ORGANIZER;CN="South Carolina Department of Commerce":MAILTO:SmallBizSupport@sccommerce.com
END:VEVENT
BEGIN:VEVENT
DTSTART;TZID=America/New_York:20240606T120000
DTEND;TZID=America/New_York:20240606T133000
DTSTAMP:20260424T174646
CREATED:20240528T115142Z
LAST-MODIFIED:20240528T115142Z
UID:31852-1717675200-1717680600@obo.columbiasc.gov
SUMMARY:Richland County Office of Small Business Opportunity presents SizeUP SC!
DESCRIPTION:Join the Richland County Office of Small Business Opportunity on June 5th for their virtual workshop entitled SizeUp SC!  During this informative virtual workshop\, you will hear from Armando Morales from SizeUp SC on how to develop tools to discover customers\, suppliers\, and competitors for business growth! \nFor more information and to register\, click here to go to the workshop webpage! \n 
URL:https://obo.columbiasc.gov/event/richland-county-office-of-small-business-opportunity-presents-sizeup-sc/
LOCATION:Virtual Event
END:VEVENT
BEGIN:VEVENT
DTSTART;TZID=America/New_York:20240613T110000
DTEND;TZID=America/New_York:20240613T120000
DTSTAMP:20260424T174646
CREATED:20240605T130050Z
LAST-MODIFIED:20240605T130050Z
UID:31886-1718276400-1718280000@obo.columbiasc.gov
SUMMARY:How To Pitch With Confidence
DESCRIPTION:The Benedict College Women’s Business Center will host How to Pitch With Confidence on Thursday\, June 13th! \nJoin the Benedict College Women’s Business Center for an empowering webinar designed specifically for entrepreneurs and business owners eager to elevate their business narratives.  This is an essential workshop for anyone looking to refine their business pitch and gain the confidence needed to engage investors\, clients\, and partners. \nFor more information and to register\, click on the link to go to Benedict College WBC’s Eventbrite page!
URL:https://obo.columbiasc.gov/event/how-to-pitch-with-confidence/
LOCATION:Virtual Event
END:VEVENT
BEGIN:VEVENT
DTSTART;TZID=America/New_York:20240613T130000
DTEND;TZID=America/New_York:20240613T140000
DTSTAMP:20260424T174646
CREATED:20240605T130637Z
LAST-MODIFIED:20240605T130637Z
UID:31888-1718283600-1718287200@obo.columbiasc.gov
SUMMARY:How to Start a Business That Last - 3 Important Business Lessons
DESCRIPTION:Midlands SCORE will host How to Start a Business That Last – 3 Important Business Lessons on Thursday\, June 13th beginning at 1:00PM! \nGet ready to be inspired as Christina Moffatt\, a former successful cupcake and dessert bar owner\, shares her top three lessons for growing a thriving business!  Join SCORE and learn how to find your business niche\, a fresh perspective on savings and investments\, and where to find the support you need to grow. \nFor more information and to register\, click on the following link to Midlands SCORE webpage!
URL:https://obo.columbiasc.gov/event/how-to-start-a-business-that-last-3-important-business-lessons/
LOCATION:Virtual Event
END:VEVENT
BEGIN:VEVENT
DTSTART;TZID=America/New_York:20240618T100000
DTEND;TZID=America/New_York:20240618T170000
DTSTAMP:20260424T174646
CREATED:20240529T193115Z
LAST-MODIFIED:20240529T193115Z
UID:31862-1718704800-1718730000@obo.columbiasc.gov
SUMMARY:Juneteenth Entrepreneur\, Film\, and Television Extravaganza
DESCRIPTION:In the heart of downtown Columbia\, South Carolina\, the inaugural 2024 Juneteenth Entrepreneur\, Film\, and Television Extravaganza (JEFTE) is set to dazzle attendees from South Carolina and surrounding states on June 18 – 19\, 2024.  This transformative two-day event promises to celebrate\, educate\, and inspire by honoring the rich legacy of Black entrepreneurship\, culture\, and art through film and television.  Don’t miss the JEFTE Entrepreneurial and Entertainment Summit on Day One\, in partnership with the City of Columbia’s Office of Business Opportunities\, at 1208 Washington Place (1208 Washington Street\, Columbia\, SC 29201) from 10:00AM – 5:00PM\, lunch provided.  On Day Two\, see the premiere of the compelling documentary film\, “Columbia’s Black Wall Street” also known as the Historic Black Business District. \nFor more information and to purchase tickets\, click on the following link to go to the Juneteenth Extravaganza website!
URL:https://obo.columbiasc.gov/event/juneteenth-entrepreneur-film-and-television-extravaganza/
LOCATION:1208 Washington Place\, 1208 Washington Street\, Columbia\, SC\, 29201\, United States
ORGANIZER;CN="City of Columbia":MAILTO:District1@Columbiasc.gov
END:VEVENT
BEGIN:VEVENT
DTSTART;TZID=America/New_York:20240619T110000
DTEND;TZID=America/New_York:20240619T210000
DTSTAMP:20260424T174646
CREATED:20240529T193612Z
LAST-MODIFIED:20240617T182316Z
UID:31866-1718794800-1718830800@obo.columbiasc.gov
SUMMARY:Juneteenth Entrepreneur\, Film\, and Television Extravaganza
DESCRIPTION:In the heart of downtown Columbia\, South Carolina\, the inaugural 2024 Juneteenth Entrepreneur\, Film\, and Television Extravaganza (JEFTE) is set to dazzle attendees from South Carolina and surrounding states on June 18 – 19\, 2024.  This transformative two-day event promises to celebrate\, educate\, and inspire by honoring the rich legacy of Black entrepreneurship\, culture\, and art through film and television.  Don’t miss the JEFTE Entrepreneurial and Entertainment Summit on Day One\, in partnership with the City of Columbia’s Office of Business Opportunities\, at 1208 Washington Place (1208 Washington Street\, Columbia\, SC 29201) from 10:00AM – 5:00PM\, lunch provided.  On Day Two\, see the premiere of the compelling documentary film\, “Columbia’s Black Wall Street” also known as the Historic Black Business District. \nFor more information and to purchase tickets\, click on the following link to go to the Juneteenth Extravaganza webpage! \nAlso\, click on the link to watch the trailer for the Did You Know? Columbia’s Black Wall Street! to premiere on Wednesday night!
URL:https://obo.columbiasc.gov/event/juneteenth-entrepreneur-film-and-television-extravaganza-2/
LOCATION:Nickelodeon Theatre\, 1607 Main Street\, Columbia\, SC\, 29201\, United States
ORGANIZER;CN="City of Columbia":MAILTO:District1@Columbiasc.gov
END:VEVENT
END:VCALENDAR