BEGIN:VCALENDAR
VERSION:2.0
PRODID:-//City of Columbia OBO - ECPv6.15.15//NONSGML v1.0//EN
CALSCALE:GREGORIAN
METHOD:PUBLISH
X-WR-CALNAME:City of Columbia OBO
X-ORIGINAL-URL:https://obo.columbiasc.gov
X-WR-CALDESC:Events for City of Columbia OBO
REFRESH-INTERVAL;VALUE=DURATION:PT1H
X-Robots-Tag:noindex
X-PUBLISHED-TTL:PT1H
BEGIN:VTIMEZONE
TZID:America/New_York
BEGIN:DAYLIGHT
TZOFFSETFROM:-0500
TZOFFSETTO:-0400
TZNAME:EDT
DTSTART:20230312T070000
END:DAYLIGHT
BEGIN:STANDARD
TZOFFSETFROM:-0400
TZOFFSETTO:-0500
TZNAME:EST
DTSTART:20231105T060000
END:STANDARD
BEGIN:DAYLIGHT
TZOFFSETFROM:-0500
TZOFFSETTO:-0400
TZNAME:EDT
DTSTART:20240310T070000
END:DAYLIGHT
BEGIN:STANDARD
TZOFFSETFROM:-0400
TZOFFSETTO:-0500
TZNAME:EST
DTSTART:20241103T060000
END:STANDARD
BEGIN:DAYLIGHT
TZOFFSETFROM:-0500
TZOFFSETTO:-0400
TZNAME:EDT
DTSTART:20250309T070000
END:DAYLIGHT
BEGIN:STANDARD
TZOFFSETFROM:-0400
TZOFFSETTO:-0500
TZNAME:EST
DTSTART:20251102T060000
END:STANDARD
END:VTIMEZONE
BEGIN:VEVENT
DTSTART;TZID=America/New_York:20240413T093000
DTEND;TZID=America/New_York:20240413T130000
DTSTAMP:20260424T203805
CREATED:20240220T134737Z
LAST-MODIFIED:20240220T134737Z
UID:31445-1713000600-1713013200@obo.columbiasc.gov
SUMMARY:Deeper Than Dentistry Presents Healthcare Career Summit
DESCRIPTION:The Deeper Than Dentistry’s Healthcare Career Summit: Empowering the Next Generation will take place on Saturday\, April 13th at the USC Alumni Center\, 900 Senate Street\, Columbia\, SC 29201. \nThis event aims to expose bright minds to the dynamic world of healthcare and ignite a passion to serve others through medicine\, dentistry\, nursing\, pharmacy\, and more.  For more information or to register\, click here to go to the Deeper Than Dentistry’s Eventbrite page!
URL:https://obo.columbiasc.gov/event/deeper-than-dentistry-presents-healthcare-career-summit/
LOCATION:Pastides Alumni Center\, 900 Senate Street\, Columbia\, SC\, United States
END:VEVENT
BEGIN:VEVENT
DTSTART;TZID=America/New_York:20240430T100000
DTEND;TZID=America/New_York:20240430T140000
DTSTAMP:20260424T203805
CREATED:20240319T154635Z
LAST-MODIFIED:20240319T154635Z
UID:31582-1714471200-1714485600@obo.columbiasc.gov
SUMMARY:Columbia Lender Matchmaker Event
DESCRIPTION:The Office of Business Opportunities along with Midlands SCORE\, Benedict College Women’s Business Center\, SBA Veterans Business Outreach Center\, and Richland Library will be participating in the Columbia Lender Matchmaker Event hosted by the U.S. Small Business Administration! \nJoin us for this event to meet one-on-one with SBA lenders and community resource partners on Tuesday\, April 30th at the Richland Library Main Auditorium!  For more information\, click here to go to the Richland Library Events page!
URL:https://obo.columbiasc.gov/event/columbia-lender-matchmaker-event-2/
LOCATION:Richland Library Main – Auditorium\, 1431 Assembly Street\, Columbia\, SC\, 29201\, United States
END:VEVENT
END:VCALENDAR