BEGIN:VCALENDAR
VERSION:2.0
PRODID:-//City of Columbia OBO - ECPv6.15.15//NONSGML v1.0//EN
CALSCALE:GREGORIAN
METHOD:PUBLISH
X-ORIGINAL-URL:https://obo.columbiasc.gov
X-WR-CALDESC:Events for City of Columbia OBO
REFRESH-INTERVAL;VALUE=DURATION:PT1H
X-Robots-Tag:noindex
X-PUBLISHED-TTL:PT1H
BEGIN:VTIMEZONE
TZID:America/New_York
BEGIN:DAYLIGHT
TZOFFSETFROM:-0500
TZOFFSETTO:-0400
TZNAME:EDT
DTSTART:20230312T070000
END:DAYLIGHT
BEGIN:STANDARD
TZOFFSETFROM:-0400
TZOFFSETTO:-0500
TZNAME:EST
DTSTART:20231105T060000
END:STANDARD
BEGIN:DAYLIGHT
TZOFFSETFROM:-0500
TZOFFSETTO:-0400
TZNAME:EDT
DTSTART:20240310T070000
END:DAYLIGHT
BEGIN:STANDARD
TZOFFSETFROM:-0400
TZOFFSETTO:-0500
TZNAME:EST
DTSTART:20241103T060000
END:STANDARD
BEGIN:DAYLIGHT
TZOFFSETFROM:-0500
TZOFFSETTO:-0400
TZNAME:EDT
DTSTART:20250309T070000
END:DAYLIGHT
BEGIN:STANDARD
TZOFFSETFROM:-0400
TZOFFSETTO:-0500
TZNAME:EST
DTSTART:20251102T060000
END:STANDARD
END:VTIMEZONE
BEGIN:VEVENT
DTSTART;TZID=America/New_York:20240221T180000
DTEND;TZID=America/New_York:20240221T190000
DTSTAMP:20260424T234322
CREATED:20240205T201038Z
LAST-MODIFIED:20240205T201038Z
UID:31379-1708538400-1708542000@obo.columbiasc.gov
SUMMARY:Richland Library EiR Presents: How to Design a Business That You Love
DESCRIPTION:Richland Library’s Entrepreneur-in-Residence (EiR) Michele Dugar will present How to Design a Business That You Love on Wednesday\, February 21st at 6:00PM! \nDuring this presentation\, Michele will teach participants on how to align your passion and purpose with profit and address ways to avoid feeling overwhelmed in the process! \nFor more information and to register\, click here to go to Richland Library’s EiR webpage! \n 
URL:https://obo.columbiasc.gov/event/richland-library-eir-presents-how-to-design-a-business-that-you-love/
LOCATION:Richland Library Main – Auditorium\, 1431 Assembly Street\, Columbia\, SC\, 29201\, United States
END:VEVENT
BEGIN:VEVENT
DTSTART;TZID=America/New_York:20240222T110000
DTEND;TZID=America/New_York:20240222T120000
DTSTAMP:20260424T234322
CREATED:20240219T210520Z
LAST-MODIFIED:20240219T210520Z
UID:31431-1708599600-1708603200@obo.columbiasc.gov
SUMMARY:Toms Creek Family Farms Mobile Market Press Conference
DESCRIPTION:The City of Columbia is pleased to announce the launch of the Toms Creek Family Farms Mobile Food Market! \nA press conference will be held on Thursday\, February 22nd at 11:00AM at the City of Columbia’s Hyatt Park\, 950 Jackson Avenue\, Columbia\, SC 29203. \nTo read more\, click here to the City of Columbia’s Press Release!
URL:https://obo.columbiasc.gov/event/toms-creek-family-farms-mobile-market-press-conference/
LOCATION:City of Columbia Hyatt Park\, 950 Jackson Avenue\, Columbia\, SC\, 29203\, United States
END:VEVENT
BEGIN:VEVENT
DTSTART;TZID=America/New_York:20240226T120000
DTEND;TZID=America/New_York:20240226T133000
DTSTAMP:20260424T234322
CREATED:20240130T165742Z
LAST-MODIFIED:20240130T165742Z
UID:31328-1708948800-1708954200@obo.columbiasc.gov
SUMMARY:Understanding Your Bonding Capacity: How to Open Doors to Contracting Opportunities
DESCRIPTION:The Richland County Office of Small Business Opportunity (OSBO) is beginning their 2024 Business Workshop Academy Build-Grow-Scale will host a virtual lunch and learn workshop on Monday\, February 26\, 2024 beginning at 12:00PM called Understanding Your Bonding Capacity: How to Open Doors to Contracting Opportunities. \nPresenter Peter C. Gibbs will provide participants information and resources on what you need to know as a contractor.  To register for this event\, click here to go to Richland County OSBO’s Zoom registration page!
URL:https://obo.columbiasc.gov/event/understanding-your-bonding-capacity-how-to-open-doors-to-contracting-opportunities/
LOCATION:Zoom
END:VEVENT
BEGIN:VEVENT
DTSTART;TZID=America/New_York:20240227T090000
DTEND;TZID=America/New_York:20240227T130000
DTSTAMP:20260424T234322
CREATED:20240130T180401Z
LAST-MODIFIED:20240130T180401Z
UID:31336-1709024400-1709038800@obo.columbiasc.gov
SUMMARY:Catalyst B2B Matchmaking Event for the Defense Sector
DESCRIPTION:  \nThe South Carolina Department of Commerce (SC Commerce)\, South Carolina Department of Employment and Workforce (DEW)\, and the South Carolina Manufacturing Extension Partnership (SC MEP) are pleased to host the Catalyst Advanced Manufacturing Assistance Program Matchmaker. \nSouth Carolina’s small and medium-sized suppliers will have the opportunity to connect with the state’s primes\, OEMs\, and Tier-1 suppliers to increase the amount of DoD-related business opportunities available to them.  For more information and to register\, click here!
URL:https://obo.columbiasc.gov/event/catalyst-b2b-matchmaking-event-for-the-defense-sector/
LOCATION:Pastides Alumni Center\, 900 Senate Street\, Columbia\, SC\, United States
ORGANIZER;CN="South Carolina Department of Commerce":MAILTO:SmallBizSupport@sccommerce.com
END:VEVENT
BEGIN:VEVENT
DTSTART;TZID=America/New_York:20240227T100000
DTEND;TZID=America/New_York:20240227T103000
DTSTAMP:20260424T234322
CREATED:20240219T161159Z
LAST-MODIFIED:20240219T161531Z
UID:31426-1709028000-1709029800@obo.columbiasc.gov
SUMMARY:ERTC and City of Columbia Information Session
DESCRIPTION:The City of Columbia is partnering with the Employee Retention Tax Credit (ERTC) on Tuesday\, February 27th to host a webinar on learning more information on the Employee Retention Tax Credit (ERTC).  For more information and to register\, click here to go to the ERTC website or contact ERTC at (855)648-2955! \n 
URL:https://obo.columbiasc.gov/event/ertc-and-city-of-columbia-information-session/
LOCATION:Online Webinar
ORGANIZER;CN="City of Columbia":MAILTO:District1@Columbiasc.gov
END:VEVENT
BEGIN:VEVENT
DTSTART;TZID=America/New_York:20240229T093000
DTEND;TZID=America/New_York:20240229T103000
DTSTAMP:20260424T234322
CREATED:20240220T161746Z
LAST-MODIFIED:20240220T161746Z
UID:31450-1709199000-1709202600@obo.columbiasc.gov
SUMMARY:City of Columbia's Planning & Development Services: Development Deep Dive
DESCRIPTION:Join the City of Columbia’s Planning & Development Services and Engineering for a Development Deep Dive on Thursday\, February 29th beginning at 9:30AM. \nDuring this session\, participants will meet Planning and Development staff and learn about topics of interest to professional working in development and construction in the City of Columbia. \nTo RSVP for this event\, send an email to City of Columbia’s Planning & Development department or if you have any questions or want more information contact them at (803)545-3426!
URL:https://obo.columbiasc.gov/event/city-of-columbias-planning-development-services-development-deep-dive/
LOCATION:Richland Library Main – Auditorium\, 1431 Assembly Street\, Columbia\, SC\, 29201\, United States
END:VEVENT
END:VCALENDAR