BEGIN:VCALENDAR
VERSION:2.0
PRODID:-//City of Columbia OBO - ECPv6.15.15//NONSGML v1.0//EN
CALSCALE:GREGORIAN
METHOD:PUBLISH
X-WR-CALNAME:City of Columbia OBO
X-ORIGINAL-URL:https://obo.columbiasc.gov
X-WR-CALDESC:Events for City of Columbia OBO
REFRESH-INTERVAL;VALUE=DURATION:PT1H
X-Robots-Tag:noindex
X-PUBLISHED-TTL:PT1H
BEGIN:VTIMEZONE
TZID:America/New_York
BEGIN:DAYLIGHT
TZOFFSETFROM:-0500
TZOFFSETTO:-0400
TZNAME:EDT
DTSTART:20220313T070000
END:DAYLIGHT
BEGIN:STANDARD
TZOFFSETFROM:-0400
TZOFFSETTO:-0500
TZNAME:EST
DTSTART:20221106T060000
END:STANDARD
BEGIN:DAYLIGHT
TZOFFSETFROM:-0500
TZOFFSETTO:-0400
TZNAME:EDT
DTSTART:20230312T070000
END:DAYLIGHT
BEGIN:STANDARD
TZOFFSETFROM:-0400
TZOFFSETTO:-0500
TZNAME:EST
DTSTART:20231105T060000
END:STANDARD
BEGIN:DAYLIGHT
TZOFFSETFROM:-0500
TZOFFSETTO:-0400
TZNAME:EDT
DTSTART:20240310T070000
END:DAYLIGHT
BEGIN:STANDARD
TZOFFSETFROM:-0400
TZOFFSETTO:-0500
TZNAME:EST
DTSTART:20241103T060000
END:STANDARD
END:VTIMEZONE
BEGIN:VEVENT
DTSTART;TZID=America/New_York:20231107T120000
DTEND;TZID=America/New_York:20231107T130000
DTSTAMP:20260425T144204
CREATED:20231107T163314Z
LAST-MODIFIED:20231107T163314Z
UID:30949-1699358400-1699362000@obo.columbiasc.gov
SUMMARY:Richland County Disparity Study
DESCRIPTION:Richland County has contracted with Griffin & Strong\, P.C. to determine whether a disparity exists between the percentage of available minority and women-owned firms in Richland County.  To attend one of the information webinars\, click on the one of the links below to register! \nTuesday\, November 7th at 12:00PM \nThursday\, November 9th at 6:00PM
URL:https://obo.columbiasc.gov/event/richland-county-disparity-study/
LOCATION:Zoom
END:VEVENT
BEGIN:VEVENT
DTSTART;TZID=America/New_York:20231108T090000
DTEND;TZID=America/New_York:20231108T113000
DTSTAMP:20260425T144204
CREATED:20231003T200122Z
LAST-MODIFIED:20231003T200705Z
UID:30804-1699434000-1699443000@obo.columbiasc.gov
SUMMARY:The Power of Capital: Positioned to Thrive\, Preparing for Windows of Opportunity
DESCRIPTION:  \n \n \nAre you looking for strategic funding partners to help in your efforts to participate in the growth of the state’s supply chain with major industry leaders?  The South Carolina Department of Commerce and the South Carolina Small Business Development Center (SC SBDC) will be hosting The Power of Capital: Positioned to Thrive\, Preparing for Windows of Opportunity on Wednesday\, November 8th beginning at 9:00AM in Winnsboro\, SC. \nJoin SC SBDC and the SC Department of Commerce for this exciting event that will empower you to seize every opportunity that comes your way. Don’t miss out on this incredible chance to unlock your potential and thrive in today’s competitive world! \nFor more information and to register\, click here to go to SC SBDC’s Eventbrite page!
URL:https://obo.columbiasc.gov/event/the-power-of-capital-positioned-to-thrive-preparing-for-windows-of-opportunity/
LOCATION:Fairfield County Administration Office\, 250 North Walnut Street\, Winnsboro\, SC\, 29180\, United States
ORGANIZER;CN="South Carolina Department of Commerce":MAILTO:SmallBizSupport@sccommerce.com
END:VEVENT
BEGIN:VEVENT
DTSTART;TZID=America/New_York:20231109T180000
DTEND;TZID=America/New_York:20231109T190000
DTSTAMP:20260425T144204
CREATED:20231107T163358Z
LAST-MODIFIED:20231107T163358Z
UID:30953-1699552800-1699556400@obo.columbiasc.gov
SUMMARY:Richland County Disparity Study
DESCRIPTION:Richland County has contracted with Griffin & Strong\, P.C. to determine whether a disparity exists between the percentage of available minority and women-owned firms in Richland County.  To attend one of the information webinars\, click on the one of the links below to register! \nTuesday\, November 7th at 12:00PM \nThursday\, November 9th at 6:00PM
URL:https://obo.columbiasc.gov/event/richland-county-disparity-study-2/
LOCATION:Zoom
END:VEVENT
BEGIN:VEVENT
DTSTART;TZID=America/New_York:20231115T113000
DTEND;TZID=America/New_York:20231115T123000
DTSTAMP:20260425T144204
CREATED:20231107T162213Z
LAST-MODIFIED:20231107T162213Z
UID:30945-1700047800-1700051400@obo.columbiasc.gov
SUMMARY:HUBZone Certification Webinar
DESCRIPTION:SC APEX Accelerator is hosting a HUBZone Certification Webinar on Wednesday\, November 15th!  The purpose of this event is to show how HUBZone Certifications benefit businesses that qualify for the program.  For more information and to register\, click here to go to SC APEX’s registration page!
URL:https://obo.columbiasc.gov/event/hubzone-certification-webinar/
LOCATION:Online Webinar
END:VEVENT
BEGIN:VEVENT
DTSTART;TZID=America/New_York:20231116T180000
DTEND;TZID=America/New_York:20231116T200000
DTSTAMP:20260425T144204
CREATED:20231030T195733Z
LAST-MODIFIED:20231030T195733Z
UID:30918-1700157600-1700164800@obo.columbiasc.gov
SUMMARY:All Access Columbia Resource Fair
DESCRIPTION:The City of Columbia’s Community Development and Richland County Community Development will be hosting a resource fair and home buying tips workshop sessions on Thursday\, November 16th beginning at 6:00PM at the Busby Street Community Center. \nFor more information and to register\, click here to go to the All Access Columbia webpage!
URL:https://obo.columbiasc.gov/event/all-access-columbia-resource-fair/
LOCATION:Busby Street Community Center\, 1735 Busby Streeet\, Columbia\, SC\, 29203\, United States
END:VEVENT
BEGIN:VEVENT
DTSTART;TZID=America/New_York:20231129T090000
DTEND;TZID=America/New_York:20231129T120000
DTSTAMP:20260425T144204
CREATED:20231121T162213Z
LAST-MODIFIED:20231121T162530Z
UID:31038-1701248400-1701259200@obo.columbiasc.gov
SUMMARY:Small Business Resource Fair
DESCRIPTION:The U.S. Small Business Administration (South Carolina District Office)\, the City of Columbia’s Office of Business Opportunities and our local small business resource partners will be hosting a Small Business Resource Fair on Wednesday\, November 29th at the Busby Street Community Center beginning at 9:00AM. \nCome and hear from SBA representatives along with representatives from the following agencies: \n\nCity of Columbia’s Office of Business Opportunities\nSouth Carolina Small Business Development Center (SBDC)\nSCORE Midlands\nBenedict College Women’s Business Center\nRichland County Office of Small Business Opportunity (OSBO)\nSouth Carolina Office of Small and Minority Business Contracting and Certification (SMBCC)\nColumbia Chamber of Commerce\nSouth Carolina Chamber of Commerce\n\nFor questions or additional information\, contact Angela Brewer\, U.S. SBA Business Opportunity Specialist at (803)765-5907!
URL:https://obo.columbiasc.gov/event/small-business-resource-day/
LOCATION:Busby Street Community Center\, 1735 Busby Streeet\, Columbia\, SC\, 29203\, United States
END:VEVENT
END:VCALENDAR