BEGIN:VCALENDAR
VERSION:2.0
PRODID:-//City of Columbia OBO - ECPv6.15.15//NONSGML v1.0//EN
CALSCALE:GREGORIAN
METHOD:PUBLISH
X-WR-CALNAME:City of Columbia OBO
X-ORIGINAL-URL:https://obo.columbiasc.gov
X-WR-CALDESC:Events for City of Columbia OBO
REFRESH-INTERVAL;VALUE=DURATION:PT1H
X-Robots-Tag:noindex
X-PUBLISHED-TTL:PT1H
BEGIN:VTIMEZONE
TZID:America/New_York
BEGIN:DAYLIGHT
TZOFFSETFROM:-0500
TZOFFSETTO:-0400
TZNAME:EDT
DTSTART:20220313T070000
END:DAYLIGHT
BEGIN:STANDARD
TZOFFSETFROM:-0400
TZOFFSETTO:-0500
TZNAME:EST
DTSTART:20221106T060000
END:STANDARD
BEGIN:DAYLIGHT
TZOFFSETFROM:-0500
TZOFFSETTO:-0400
TZNAME:EDT
DTSTART:20230312T070000
END:DAYLIGHT
BEGIN:STANDARD
TZOFFSETFROM:-0400
TZOFFSETTO:-0500
TZNAME:EST
DTSTART:20231105T060000
END:STANDARD
BEGIN:DAYLIGHT
TZOFFSETFROM:-0500
TZOFFSETTO:-0400
TZNAME:EDT
DTSTART:20240310T070000
END:DAYLIGHT
BEGIN:STANDARD
TZOFFSETFROM:-0400
TZOFFSETTO:-0500
TZNAME:EST
DTSTART:20241103T060000
END:STANDARD
END:VTIMEZONE
BEGIN:VEVENT
DTSTART;TZID=America/New_York:20231005T180000
DTEND;TZID=America/New_York:20231005T193000
DTSTAMP:20260425T160235
CREATED:20230918T155021Z
LAST-MODIFIED:20230918T155021Z
UID:30761-1696528800-1696534200@obo.columbiasc.gov
SUMMARY:Bridging the Generational Gap in the Workplace
DESCRIPTION:Join the Office of Business Opportunities on Thursday\, October 5th at the Busby Street Community Center for this informative workshop on Bridging the Generational Gap in the Workplace! \nTyson K. Brown of Project OneWay will be discussing the generational gap with employees in the workplace and will cover topics on understanding the importance of healthy and complete communication between older and younger generations and how to engage a younger demographic in the workplace in spite of lack of relatability between age groups. \nFor more information and to register\, click here to go to OBO’s Eventbrite page!
URL:https://obo.columbiasc.gov/event/bridging-the-generational-gap-in-the-workplace/
LOCATION:Busby Street Community Center\, 1735 Busby Streeet\, Columbia\, SC\, 29203\, United States
ORGANIZER;CN="Kalenna Ginyard":MAILTO:Kalenna.Ginyard@columbiasc.gov
END:VEVENT
BEGIN:VEVENT
DTSTART;TZID=America/New_York:20231016T100000
DTEND;TZID=America/New_York:20231016T120000
DTSTAMP:20260425T160235
CREATED:20230920T185313Z
LAST-MODIFIED:20230920T185313Z
UID:30771-1697450400-1697457600@obo.columbiasc.gov
SUMMARY:Mayor's Town Hall Tour
DESCRIPTION:Mayor Daniel J. Rickenmann will be leading a town hall tour across all four districts to share the state of the City. City Council members and City staff will join Mayor Rickenmann to discuss updates for each district. \nThe Mayor’s Town Hall Tour for the Columbia Business Community will be on October 16th beginning at 10:00AM at the Columbia Metropolitan Convention Center.  The Office of Business Opportunities will be in attendance to answer questions regarding your small business!  For more information\, click here to go to the Mayor’s Town Hall webpage!
URL:https://obo.columbiasc.gov/event/mayors-town-hall-tour/
LOCATION:Columbia Metropolitan Convention Center\, 1101 Lincoln Street\, Columbia\, 29201
ORGANIZER;CN="City of Columbia":MAILTO:District1@Columbiasc.gov
END:VEVENT
BEGIN:VEVENT
DTSTART;TZID=America/New_York:20231019T083000
DTEND;TZID=America/New_York:20231019T101500
DTSTAMP:20260425T160235
CREATED:20230919T130933Z
LAST-MODIFIED:20230919T131006Z
UID:30766-1697704200-1697710500@obo.columbiasc.gov
SUMMARY:Make That Dough 23: Small Business Non-Profit Collaborations in Food Access
DESCRIPTION:  \nThe City of Columbia Food Policy Committee and the City of Columbia’s Office of Business Opportunities will be hosting the Make That Dough workshop on Thursday\, October 19th beginning at 8:30AM. \nThe purpose of this workshop is for food service/food industry small business owners to meet and network with other small businesses and non-profit organizations who are engaged in the work of expanding food access for our communitites. \nFor more information and to register\, click here to go to the City of Columbia’s Food Policy Committee Eventbrite page!
URL:https://obo.columbiasc.gov/event/30766/
LOCATION:Busby Street Community Center\, 1735 Busby Streeet\, Columbia\, SC\, 29203\, United States
END:VEVENT
BEGIN:VEVENT
DTSTART;TZID=America/New_York:20231019T110000
DTEND;TZID=America/New_York:20231019T120000
DTSTAMP:20260425T160235
CREATED:20231009T115751Z
LAST-MODIFIED:20231009T115751Z
UID:30829-1697713200-1697716800@obo.columbiasc.gov
SUMMARY:Branding For Success
DESCRIPTION:  \nThe Benedict College Women’s Business Center will be hosting the Branding For Success webinar on Thursday\, October 19th beginning at 11:00AM! \nPresenter Ebony Looney of Make Me Over\, Eb!will assist participants in embarking on a journey to unlock the secrets of effective branding.  Also\, she will provide information about strategies and techniques that set your business apart and help it thrive in today’s competitive landscape. \nTo register for this event\, click here to go to the Benedict College Women’s Business Center Eventbrite page!
URL:https://obo.columbiasc.gov/event/branding-for-success/
LOCATION:Online Webinar
END:VEVENT
BEGIN:VEVENT
DTSTART;TZID=America/New_York:20231024T180000
DTEND;TZID=America/New_York:20231024T190000
DTSTAMP:20260425T160235
CREATED:20231003T195324Z
LAST-MODIFIED:20231003T195324Z
UID:30802-1698170400-1698174000@obo.columbiasc.gov
SUMMARY:Richland Library EiR Presents: Marketing Your Business
DESCRIPTION:Want to freshen up on your marketing skills?  Richland Library’s Entrepreneur in Residence (EiR) will be hosting Marketing Your Business on Tuesday\, October 24th beginning at 6:00PM.  Entrepreneur in Residence Noelle Jones will go over a guide to marketing your business and the steps to create your own personal marketing plan.  For more information and to register\, click here to go to Richland Library’s Events page!
URL:https://obo.columbiasc.gov/event/richland-library-eir-presents-marketing-your-business/
LOCATION:Richland Library Main – Auditorium\, 1431 Assembly Street\, Columbia\, SC\, 29201\, United States
END:VEVENT
END:VCALENDAR