BEGIN:VCALENDAR
VERSION:2.0
PRODID:-//City of Columbia OBO - ECPv6.15.15//NONSGML v1.0//EN
CALSCALE:GREGORIAN
METHOD:PUBLISH
X-WR-CALNAME:City of Columbia OBO
X-ORIGINAL-URL:https://obo.columbiasc.gov
X-WR-CALDESC:Events for City of Columbia OBO
REFRESH-INTERVAL;VALUE=DURATION:PT1H
X-Robots-Tag:noindex
X-PUBLISHED-TTL:PT1H
BEGIN:VTIMEZONE
TZID:America/New_York
BEGIN:DAYLIGHT
TZOFFSETFROM:-0500
TZOFFSETTO:-0400
TZNAME:EDT
DTSTART:20250309T070000
END:DAYLIGHT
BEGIN:STANDARD
TZOFFSETFROM:-0400
TZOFFSETTO:-0500
TZNAME:EST
DTSTART:20251102T060000
END:STANDARD
BEGIN:DAYLIGHT
TZOFFSETFROM:-0500
TZOFFSETTO:-0400
TZNAME:EDT
DTSTART:20260308T070000
END:DAYLIGHT
BEGIN:STANDARD
TZOFFSETFROM:-0400
TZOFFSETTO:-0500
TZNAME:EST
DTSTART:20261101T060000
END:STANDARD
BEGIN:DAYLIGHT
TZOFFSETFROM:-0500
TZOFFSETTO:-0400
TZNAME:EDT
DTSTART:20270314T070000
END:DAYLIGHT
BEGIN:STANDARD
TZOFFSETFROM:-0400
TZOFFSETTO:-0500
TZNAME:EST
DTSTART:20271107T060000
END:STANDARD
END:VTIMEZONE
BEGIN:VEVENT
DTSTART;TZID=America/New_York:20260424T100000
DTEND;TZID=America/New_York:20260424T123000
DTSTAMP:20260423T071254
CREATED:20260408T181642Z
LAST-MODIFIED:20260408T181642Z
UID:34047-1777024800-1777033800@obo.columbiasc.gov
SUMMARY:ProcuraFind Small Business Workshop
DESCRIPTION:ProcuraFind will be hosting their Small Business Workshop on Friday\, April 24th beginning at 10:00AM at the Busby Street Community Center! \nFor more information and to register\, click HERE to go to ProcuraFind’s events page!
URL:https://obo.columbiasc.gov/event/procurafind-small-business-workshop/
LOCATION:Busby Street Community Center\, 1735 Busby Streeet\, Columbia\, SC\, 29203\, United States
ORGANIZER;CN="ProcuraFind (formerly Queen City Women in Business)":MAILTO:dawnnicole@qcwomeninbusiness.com
END:VEVENT
BEGIN:VEVENT
DTSTART;TZID=America/New_York:20260428T180000
DTEND;TZID=America/New_York:20260428T190000
DTSTAMP:20260423T071254
CREATED:20260421T182210Z
LAST-MODIFIED:20260421T182210Z
UID:34070-1777399200-1777402800@obo.columbiasc.gov
SUMMARY:Richland Library EiR Presents: Learn From Results\, Adjust with Intention
DESCRIPTION:Richland Library’s Entrepreneur-in-Residence (EiR) will present Learn From Results\, Adjust with Intention on Tuesday\, April 28th at the Richland Library\, 1431 Assembly Street in Columbia. \nRichland Library’s Entrepreneur-in-Residence\, Ron Harvey\, will teach participants how to reflect on feedback from their tests\, identify patterns\, and determine next steps.  The focus will be on building confidence in decision making\, whether that means refining the idea\, continuing to test\, or adjusting direction. \nFor more information and to register\, click HERE to go to the Richland Library webpage!
URL:https://obo.columbiasc.gov/event/richland-library-eir-presents-learn-from-results-adjust-with-intention/
LOCATION:Richland Library Main – Auditorium\, 1431 Assembly Street\, Columbia\, SC\, 29201\, United States
END:VEVENT
BEGIN:VEVENT
DTSTART;TZID=America/New_York:20260506T090000
DTEND;TZID=America/New_York:20260506T153000
DTSTAMP:20260423T071254
CREATED:20260406T185336Z
LAST-MODIFIED:20260406T185336Z
UID:34043-1778058000-1778081400@obo.columbiasc.gov
SUMMARY:City of Columbia's 13th Annual Small Business Week Conference
DESCRIPTION:The City of Columbia’s Office of Business Opportunities will be hosting the City of Columbia’s 13th Annual Small Business Week Conference on Wednesday\, May 6\, 2026 at the Pastides (USC) Alumni Center\, 900 Senate Street\, Columbia\, SC 29201.  The conference will begin at 9:00AM\, registration will start at 8:00AM. \nThis year’s keynote speaker will be Dr. Macie P. Smith\, Owner and CEO of Diversified Training Consultants Group\, LLC.  Dr. Ashlye V. Wilkerson will serve as our Mistress of Ceremony.  Also\, during our lunch session\, powered by the Columbia Chamber of Commerce\, the speaker will be State Representative Wendell Jones! \nIn addition to morning and afternoon breakout sessions on small business topics\, the U.S. Small Business Administration will host their statewide awards ceremony honoring small businesses in South Carolina!  We will also have a vendor showcase featuring local community resource partners and more! \nRegistration is open and tickets are $20.00 until April 21st.  After this\, the tickets will increase to $35.00.  For more information and to register\, click on the following link to go to the Small Business Week Conference registration page!
URL:https://obo.columbiasc.gov/event/city-of-columbias-13th-annual-small-business-week-conference/
LOCATION:Pastides Alumni Center\, 900 Senate Street\, Columbia\, SC\, United States
END:VEVENT
END:VCALENDAR