BEGIN:VCALENDAR
VERSION:2.0
PRODID:-//City of Columbia OBO - ECPv6.15.15//NONSGML v1.0//EN
CALSCALE:GREGORIAN
METHOD:PUBLISH
X-WR-CALNAME:City of Columbia OBO
X-ORIGINAL-URL:https://obo.columbiasc.gov
X-WR-CALDESC:Events for City of Columbia OBO
REFRESH-INTERVAL;VALUE=DURATION:PT1H
X-Robots-Tag:noindex
X-PUBLISHED-TTL:PT1H
BEGIN:VTIMEZONE
TZID:America/New_York
BEGIN:DAYLIGHT
TZOFFSETFROM:-0500
TZOFFSETTO:-0400
TZNAME:EDT
DTSTART:20250309T070000
END:DAYLIGHT
BEGIN:STANDARD
TZOFFSETFROM:-0400
TZOFFSETTO:-0500
TZNAME:EST
DTSTART:20251102T060000
END:STANDARD
BEGIN:DAYLIGHT
TZOFFSETFROM:-0500
TZOFFSETTO:-0400
TZNAME:EDT
DTSTART:20260308T070000
END:DAYLIGHT
BEGIN:STANDARD
TZOFFSETFROM:-0400
TZOFFSETTO:-0500
TZNAME:EST
DTSTART:20261101T060000
END:STANDARD
BEGIN:DAYLIGHT
TZOFFSETFROM:-0500
TZOFFSETTO:-0400
TZNAME:EDT
DTSTART:20270314T070000
END:DAYLIGHT
BEGIN:STANDARD
TZOFFSETFROM:-0400
TZOFFSETTO:-0500
TZNAME:EST
DTSTART:20271107T060000
END:STANDARD
END:VTIMEZONE
BEGIN:VEVENT
DTSTART;TZID=America/New_York:20260318T080000
DTEND;TZID=America/New_York:20260318T143000
DTSTAMP:20260423T110401
CREATED:20260203T195808Z
LAST-MODIFIED:20260203T195808Z
UID:33836-1773820800-1773844200@obo.columbiasc.gov
SUMMARY:2026 Women's Summit: Women Who Launch\, Lead & Build a Legacy
DESCRIPTION:The South Carolina Department of Commerce and the Greater Women’s Business Council will be hosting the 2026 Women’s Summit: Women Who Launch\, Lead\, & Build a Legacy on Wednesday\, March 18th from 8:00AM – 2:30PM. \nThis summit is packed with inspiration\, innovation\, and intentional collaboration.  Attendees will participate in keynotes\, TEDx-style panels\, and more!  The City of Columbia’s Office of Business Opportunities is a proud sponsor for this event! \nFor more information and to register\, go to the 2026 Women’s Summit Eventbrite page!
URL:https://obo.columbiasc.gov/event/2026-womens-summit-women-who-launch-lead-build-a-legacy/
LOCATION:701 Whaley\, 701 Whaley Street\, Columbia\, SC\, 29201\, United States
ORGANIZER;CN="South Carolina Department of Commerce":MAILTO:SmallBizSupport@sccommerce.com
END:VEVENT
END:VCALENDAR