BEGIN:VCALENDAR
VERSION:2.0
PRODID:-//City of Columbia OBO - ECPv6.15.15//NONSGML v1.0//EN
CALSCALE:GREGORIAN
METHOD:PUBLISH
X-ORIGINAL-URL:https://obo.columbiasc.gov
X-WR-CALDESC:Events for City of Columbia OBO
REFRESH-INTERVAL;VALUE=DURATION:PT1H
X-Robots-Tag:noindex
X-PUBLISHED-TTL:PT1H
BEGIN:VTIMEZONE
TZID:America/New_York
BEGIN:DAYLIGHT
TZOFFSETFROM:-0500
TZOFFSETTO:-0400
TZNAME:EDT
DTSTART:20240310T070000
END:DAYLIGHT
BEGIN:STANDARD
TZOFFSETFROM:-0400
TZOFFSETTO:-0500
TZNAME:EST
DTSTART:20241103T060000
END:STANDARD
BEGIN:DAYLIGHT
TZOFFSETFROM:-0500
TZOFFSETTO:-0400
TZNAME:EDT
DTSTART:20250309T070000
END:DAYLIGHT
BEGIN:STANDARD
TZOFFSETFROM:-0400
TZOFFSETTO:-0500
TZNAME:EST
DTSTART:20251102T060000
END:STANDARD
BEGIN:DAYLIGHT
TZOFFSETFROM:-0500
TZOFFSETTO:-0400
TZNAME:EDT
DTSTART:20260308T070000
END:DAYLIGHT
BEGIN:STANDARD
TZOFFSETFROM:-0400
TZOFFSETTO:-0500
TZNAME:EST
DTSTART:20261101T060000
END:STANDARD
END:VTIMEZONE
BEGIN:VEVENT
DTSTART;TZID=America/New_York:20251123T160000
DTEND;TZID=America/New_York:20251123T190000
DTSTAMP:20260423T164422
CREATED:20251112T162020Z
LAST-MODIFIED:20251112T162020Z
UID:33549-1763913600-1763924400@obo.columbiasc.gov
SUMMARY:BizArts Presents: Friends Building
DESCRIPTION:7Sunday in partnership with the City of Columbia’s Office of Business Opportunities will be hosting the November edition of BizArts to be held on Sunday\, November 23rd beginning at 4:00PM at the Keenan House\, 801 Wildwood Avenue\, Columbia\, SC 29203. \nThe November edition of BizArts celebrates the warmth and camaraderie of Thanksgiving and Friendsgiving!  Entrepreneurs and creative can network and develop relationships while empowering each other to build awareness\, capital\, and mutual growth through engaging and collaborative experiences! \nFor more information and to purchase tickets\, you can go to the 7Sunday Eventbrite webpage!
URL:https://obo.columbiasc.gov/event/bizarts-presents-friends-building/
LOCATION:Keenan House\, 801 Wildwood Avenue\, Columbia\, SC\, 29203\, United States
ORGANIZER;CN="Deon Generette's 7Sunday":MAILTO:7sundayg@gmail.com
END:VEVENT
END:VCALENDAR