BEGIN:VCALENDAR
VERSION:2.0
PRODID:-//City of Columbia OBO - ECPv6.15.15//NONSGML v1.0//EN
CALSCALE:GREGORIAN
METHOD:PUBLISH
X-ORIGINAL-URL:https://obo.columbiasc.gov
X-WR-CALDESC:Events for City of Columbia OBO
REFRESH-INTERVAL;VALUE=DURATION:PT1H
X-Robots-Tag:noindex
X-PUBLISHED-TTL:PT1H
BEGIN:VTIMEZONE
TZID:America/New_York
BEGIN:DAYLIGHT
TZOFFSETFROM:-0500
TZOFFSETTO:-0400
TZNAME:EDT
DTSTART:20240310T070000
END:DAYLIGHT
BEGIN:STANDARD
TZOFFSETFROM:-0400
TZOFFSETTO:-0500
TZNAME:EST
DTSTART:20241103T060000
END:STANDARD
BEGIN:DAYLIGHT
TZOFFSETFROM:-0500
TZOFFSETTO:-0400
TZNAME:EDT
DTSTART:20250309T070000
END:DAYLIGHT
BEGIN:STANDARD
TZOFFSETFROM:-0400
TZOFFSETTO:-0500
TZNAME:EST
DTSTART:20251102T060000
END:STANDARD
BEGIN:DAYLIGHT
TZOFFSETFROM:-0500
TZOFFSETTO:-0400
TZNAME:EDT
DTSTART:20260308T070000
END:DAYLIGHT
BEGIN:STANDARD
TZOFFSETFROM:-0400
TZOFFSETTO:-0500
TZNAME:EST
DTSTART:20261101T060000
END:STANDARD
END:VTIMEZONE
BEGIN:VEVENT
DTSTART;TZID=America/New_York:20251029T160000
DTEND;TZID=America/New_York:20251029T180000
DTSTAMP:20260423T164347
CREATED:20251007T201358Z
LAST-MODIFIED:20251007T201358Z
UID:33391-1761753600-1761760800@obo.columbiasc.gov
SUMMARY:Small Business Outreach Forum
DESCRIPTION:The City of Columbia and DESA\, Inc. will be hosting the Small Business Outreach Forum on Wednesday\, October 29th beginning at 4:00PM at the Busby Street Community Center.  This is a great opportunity for small businesses who are seeking procurement opportunities with the City of Columbia to attend and be informed on upcoming City procurements and more! \nFor more information and to register\, click HERE to go the Eventbrite page!
URL:https://obo.columbiasc.gov/event/small-business-outreach-forum/
LOCATION:Busby Street Community Center\, 1735 Busby Streeet\, Columbia\, SC\, 29203\, United States
ORGANIZER;CN="DESA%2C Inc.":MAILTO:diane@desainc.com
END:VEVENT
END:VCALENDAR