BEGIN:VCALENDAR
VERSION:2.0
PRODID:-//City of Columbia OBO - ECPv6.15.15//NONSGML v1.0//EN
CALSCALE:GREGORIAN
METHOD:PUBLISH
X-ORIGINAL-URL:https://obo.columbiasc.gov
X-WR-CALDESC:Events for City of Columbia OBO
REFRESH-INTERVAL;VALUE=DURATION:PT1H
X-Robots-Tag:noindex
X-PUBLISHED-TTL:PT1H
BEGIN:VTIMEZONE
TZID:America/New_York
BEGIN:DAYLIGHT
TZOFFSETFROM:-0500
TZOFFSETTO:-0400
TZNAME:EDT
DTSTART:20240310T070000
END:DAYLIGHT
BEGIN:STANDARD
TZOFFSETFROM:-0400
TZOFFSETTO:-0500
TZNAME:EST
DTSTART:20241103T060000
END:STANDARD
BEGIN:DAYLIGHT
TZOFFSETFROM:-0500
TZOFFSETTO:-0400
TZNAME:EDT
DTSTART:20250309T070000
END:DAYLIGHT
BEGIN:STANDARD
TZOFFSETFROM:-0400
TZOFFSETTO:-0500
TZNAME:EST
DTSTART:20251102T060000
END:STANDARD
BEGIN:DAYLIGHT
TZOFFSETFROM:-0500
TZOFFSETTO:-0400
TZNAME:EDT
DTSTART:20260308T070000
END:DAYLIGHT
BEGIN:STANDARD
TZOFFSETFROM:-0400
TZOFFSETTO:-0500
TZNAME:EST
DTSTART:20261101T060000
END:STANDARD
END:VTIMEZONE
BEGIN:VEVENT
DTSTART;TZID=America/New_York:20251028T083000
DTEND;TZID=America/New_York:20251028T100000
DTSTAMP:20260423T165105
CREATED:20251013T143307Z
LAST-MODIFIED:20251013T143307Z
UID:33408-1761640200-1761645600@obo.columbiasc.gov
SUMMARY:Marketing Mornings at Indah
DESCRIPTION:Join the South Carolina Small Business Development Center (SBDC) on Tuesday\, October 28th for Marketing Mornings at Indah!   \nThe guest speaker for this event is Roshanda Pratt\, former TV news producer and communications director.  During this event\, Roshanda will provide participants with the tools to overcome imposter syndrome\, harness the power of live video\, and position themselves for lasting impact. \nFor more information and to register\, click HERE! \n 
URL:https://obo.columbiasc.gov/event/marketing-mornings-at-indah/
LOCATION:Indah Coffee\, 2238 Sumter Street\, Columbia\, SC\, United States
END:VEVENT
END:VCALENDAR