BEGIN:VCALENDAR
VERSION:2.0
PRODID:-//City of Columbia OBO - ECPv6.15.15//NONSGML v1.0//EN
CALSCALE:GREGORIAN
METHOD:PUBLISH
X-ORIGINAL-URL:https://obo.columbiasc.gov
X-WR-CALDESC:Events for City of Columbia OBO
REFRESH-INTERVAL;VALUE=DURATION:PT1H
X-Robots-Tag:noindex
X-PUBLISHED-TTL:PT1H
BEGIN:VTIMEZONE
TZID:America/New_York
BEGIN:DAYLIGHT
TZOFFSETFROM:-0500
TZOFFSETTO:-0400
TZNAME:EDT
DTSTART:20240310T070000
END:DAYLIGHT
BEGIN:STANDARD
TZOFFSETFROM:-0400
TZOFFSETTO:-0500
TZNAME:EST
DTSTART:20241103T060000
END:STANDARD
BEGIN:DAYLIGHT
TZOFFSETFROM:-0500
TZOFFSETTO:-0400
TZNAME:EDT
DTSTART:20250309T070000
END:DAYLIGHT
BEGIN:STANDARD
TZOFFSETFROM:-0400
TZOFFSETTO:-0500
TZNAME:EST
DTSTART:20251102T060000
END:STANDARD
BEGIN:DAYLIGHT
TZOFFSETFROM:-0500
TZOFFSETTO:-0400
TZNAME:EDT
DTSTART:20260308T070000
END:DAYLIGHT
BEGIN:STANDARD
TZOFFSETFROM:-0400
TZOFFSETTO:-0500
TZNAME:EST
DTSTART:20261101T060000
END:STANDARD
END:VTIMEZONE
BEGIN:VEVENT
DTSTART;TZID=America/New_York:20251023T100000
DTEND;TZID=America/New_York:20251023T123000
DTSTAMP:20260423T175921
CREATED:20250903T155916Z
LAST-MODIFIED:20250903T155916Z
UID:33278-1761213600-1761222600@obo.columbiasc.gov
SUMMARY:ProcuraFind Presents: Supplier Readiness Roundtable
DESCRIPTION:Calling all small business owners! \nIf you’ve ever considered working with major corporations right in your backyard\, here’s an event just for you! \nProcuraFind in partnership with Ridge Steward Stone Construction and the City of Columbia’s Office of Business Opportunities will be hosting the Supplier Readiness Roundtable on Thursday\, October 23rd beginning at 10:00A.M.  The event will take place at the Busby Street\, Community Center\, 1735 Busby Street\, Columbia\, SC 29203. \nSmall business owners will have the opportunity to hear from ProcuraFind ambassadors\, Ridge Steward Stone Construction\, and the Office of Business Opportunities to learn more on how businesses can prepare for providing their goods and services to major corporations! \nFor more information and to register\, click HERE!
URL:https://obo.columbiasc.gov/event/procurafind-presents-supplier-readiness-roundtable/
LOCATION:Busby Street Community Center\, 1735 Busby Streeet\, Columbia\, SC\, 29203\, United States
ORGANIZER;CN="ProcuraFind (formerly Queen City Women in Business)":MAILTO:dawnnicole@qcwomeninbusiness.com
END:VEVENT
END:VCALENDAR