BEGIN:VCALENDAR
VERSION:2.0
PRODID:-//City of Columbia OBO - ECPv6.15.15//NONSGML v1.0//EN
CALSCALE:GREGORIAN
METHOD:PUBLISH
X-ORIGINAL-URL:https://obo.columbiasc.gov
X-WR-CALDESC:Events for City of Columbia OBO
REFRESH-INTERVAL;VALUE=DURATION:PT1H
X-Robots-Tag:noindex
X-PUBLISHED-TTL:PT1H
BEGIN:VTIMEZONE
TZID:America/New_York
BEGIN:DAYLIGHT
TZOFFSETFROM:-0500
TZOFFSETTO:-0400
TZNAME:EDT
DTSTART:20240310T070000
END:DAYLIGHT
BEGIN:STANDARD
TZOFFSETFROM:-0400
TZOFFSETTO:-0500
TZNAME:EST
DTSTART:20241103T060000
END:STANDARD
BEGIN:DAYLIGHT
TZOFFSETFROM:-0500
TZOFFSETTO:-0400
TZNAME:EDT
DTSTART:20250309T070000
END:DAYLIGHT
BEGIN:STANDARD
TZOFFSETFROM:-0400
TZOFFSETTO:-0500
TZNAME:EST
DTSTART:20251102T060000
END:STANDARD
BEGIN:DAYLIGHT
TZOFFSETFROM:-0500
TZOFFSETTO:-0400
TZNAME:EDT
DTSTART:20260308T070000
END:DAYLIGHT
BEGIN:STANDARD
TZOFFSETFROM:-0400
TZOFFSETTO:-0500
TZNAME:EST
DTSTART:20261101T060000
END:STANDARD
END:VTIMEZONE
BEGIN:VEVENT
DTSTART;TZID=America/New_York:20250926T103000
DTEND;TZID=America/New_York:20250926T120000
DTSTAMP:20260423T193830
CREATED:20250903T195940Z
LAST-MODIFIED:20250903T195940Z
UID:33285-1758882600-1758888000@obo.columbiasc.gov
SUMMARY:Good 2 Great: Taking the Next Steps with OSBO
DESCRIPTION:The Richland County Office of Small Business Opportunity (OSBO) will be hosting the Good 2 Great: Taking the Next Step with OSBO workshop on Friday\, September 26th beginning at 10:30 AM at the USC Technology Incubator. \nCharles Charlestin\, OSBO Business Development & Outreach Coordinator will be facilitating this event and participants will learn more about how SLBE/ESLBE certification can benefit your business strategies and boost your opportunities for growth! \nFor more information\, contact the Richland County Office of Small Business Opportunity at (803)576-1540 or send an email to osbo@richlandcountysc.gov.  Click HERE to register!
URL:https://obo.columbiasc.gov/event/good-2-great-taking-the-next-steps-with-osbo/
LOCATION:USC Technology Incubator\, 1225 Laurel Street\, 4th Floor\, Columbia\, SC\, 29201\, United States
END:VEVENT
END:VCALENDAR