BEGIN:VCALENDAR
VERSION:2.0
PRODID:-//City of Columbia OBO - ECPv6.15.15//NONSGML v1.0//EN
CALSCALE:GREGORIAN
METHOD:PUBLISH
X-WR-CALNAME:City of Columbia OBO
X-ORIGINAL-URL:https://obo.columbiasc.gov
X-WR-CALDESC:Events for City of Columbia OBO
REFRESH-INTERVAL;VALUE=DURATION:PT1H
X-Robots-Tag:noindex
X-PUBLISHED-TTL:PT1H
BEGIN:VTIMEZONE
TZID:America/New_York
BEGIN:DAYLIGHT
TZOFFSETFROM:-0500
TZOFFSETTO:-0400
TZNAME:EDT
DTSTART:20240310T070000
END:DAYLIGHT
BEGIN:STANDARD
TZOFFSETFROM:-0400
TZOFFSETTO:-0500
TZNAME:EST
DTSTART:20241103T060000
END:STANDARD
BEGIN:DAYLIGHT
TZOFFSETFROM:-0500
TZOFFSETTO:-0400
TZNAME:EDT
DTSTART:20250309T070000
END:DAYLIGHT
BEGIN:STANDARD
TZOFFSETFROM:-0400
TZOFFSETTO:-0500
TZNAME:EST
DTSTART:20251102T060000
END:STANDARD
BEGIN:DAYLIGHT
TZOFFSETFROM:-0500
TZOFFSETTO:-0400
TZNAME:EDT
DTSTART:20260308T070000
END:DAYLIGHT
BEGIN:STANDARD
TZOFFSETFROM:-0400
TZOFFSETTO:-0500
TZNAME:EST
DTSTART:20261101T060000
END:STANDARD
END:VTIMEZONE
BEGIN:VEVENT
DTSTART;TZID=America/New_York:20250922T150000
DTEND;TZID=America/New_York:20250922T163000
DTSTAMP:20260423T193823
CREATED:20250912T182850Z
LAST-MODIFIED:20250912T182940Z
UID:33322-1758553200-1758558600@obo.columbiasc.gov
SUMMARY:Columbia Chamber: Midlands Business Accelerator Information Session
DESCRIPTION:The Columbia Chamber of Commerce will be hosting the Midlands Business Accelerator Information Session on Monday\, September 22nd at 3:00PM at South State Bank\, 520 Gervais Street. \nThis session will focus on the upcoming Midlands Business Accelerator program.  Learn more on how this program can accelerate your business growth through mentorship\, training\, and access to resources.  For more information and to register\, click HERE to go to the Chamber webpage!
URL:https://obo.columbiasc.gov/event/south-carolina-business-accelerator-information-session/
LOCATION:South State Bank\, 520 Gervais Street\, Columbia\, SC\, 29201\, United States
END:VEVENT
END:VCALENDAR