BEGIN:VCALENDAR
VERSION:2.0
PRODID:-//City of Columbia OBO - ECPv6.15.15//NONSGML v1.0//EN
CALSCALE:GREGORIAN
METHOD:PUBLISH
X-WR-CALNAME:City of Columbia OBO
X-ORIGINAL-URL:https://obo.columbiasc.gov
X-WR-CALDESC:Events for City of Columbia OBO
REFRESH-INTERVAL;VALUE=DURATION:PT1H
X-Robots-Tag:noindex
X-PUBLISHED-TTL:PT1H
BEGIN:VTIMEZONE
TZID:America/New_York
BEGIN:DAYLIGHT
TZOFFSETFROM:-0500
TZOFFSETTO:-0400
TZNAME:EDT
DTSTART:20240310T070000
END:DAYLIGHT
BEGIN:STANDARD
TZOFFSETFROM:-0400
TZOFFSETTO:-0500
TZNAME:EST
DTSTART:20241103T060000
END:STANDARD
BEGIN:DAYLIGHT
TZOFFSETFROM:-0500
TZOFFSETTO:-0400
TZNAME:EDT
DTSTART:20250309T070000
END:DAYLIGHT
BEGIN:STANDARD
TZOFFSETFROM:-0400
TZOFFSETTO:-0500
TZNAME:EST
DTSTART:20251102T060000
END:STANDARD
BEGIN:DAYLIGHT
TZOFFSETFROM:-0500
TZOFFSETTO:-0400
TZNAME:EDT
DTSTART:20260308T070000
END:DAYLIGHT
BEGIN:STANDARD
TZOFFSETFROM:-0400
TZOFFSETTO:-0500
TZNAME:EST
DTSTART:20261101T060000
END:STANDARD
END:VTIMEZONE
BEGIN:VEVENT
DTSTART;TZID=America/New_York:20250921T160000
DTEND;TZID=America/New_York:20250921T190000
DTSTAMP:20260423T193825
CREATED:20250905T125813Z
LAST-MODIFIED:20250905T132412Z
UID:33300-1758470400-1758481200@obo.columbiasc.gov
SUMMARY:7Sunday and the Office of Business Opportunities Presents BizArts
DESCRIPTION:Deon Generette’s 7Sunday in partnership with the Office of Business Opportunities will be hosting the new series\, BizArts on Sunday\, September 21st beginning at 4:00PM at the Columbia Museum of Art.  For more information and to purchase tickets\, click HERE to read more!
URL:https://obo.columbiasc.gov/event/7sunday-and-the-office-of-business-opportunities-presents-bizarts/
LOCATION:Columbia Museum of Art\, 1515 Main Street\, Columbia\, SC\, 29201\, United States
ORGANIZER;CN="Deon Generette's 7Sunday":MAILTO:7sundayg@gmail.com
END:VEVENT
END:VCALENDAR