BEGIN:VCALENDAR
VERSION:2.0
PRODID:-//City of Columbia OBO - ECPv6.15.15//NONSGML v1.0//EN
CALSCALE:GREGORIAN
METHOD:PUBLISH
X-ORIGINAL-URL:https://obo.columbiasc.gov
X-WR-CALDESC:Events for City of Columbia OBO
REFRESH-INTERVAL;VALUE=DURATION:PT1H
X-Robots-Tag:noindex
X-PUBLISHED-TTL:PT1H
BEGIN:VTIMEZONE
TZID:America/New_York
BEGIN:DAYLIGHT
TZOFFSETFROM:-0500
TZOFFSETTO:-0400
TZNAME:EDT
DTSTART:20240310T070000
END:DAYLIGHT
BEGIN:STANDARD
TZOFFSETFROM:-0400
TZOFFSETTO:-0500
TZNAME:EST
DTSTART:20241103T060000
END:STANDARD
BEGIN:DAYLIGHT
TZOFFSETFROM:-0500
TZOFFSETTO:-0400
TZNAME:EDT
DTSTART:20250309T070000
END:DAYLIGHT
BEGIN:STANDARD
TZOFFSETFROM:-0400
TZOFFSETTO:-0500
TZNAME:EST
DTSTART:20251102T060000
END:STANDARD
BEGIN:DAYLIGHT
TZOFFSETFROM:-0500
TZOFFSETTO:-0400
TZNAME:EDT
DTSTART:20260308T070000
END:DAYLIGHT
BEGIN:STANDARD
TZOFFSETFROM:-0400
TZOFFSETTO:-0500
TZNAME:EST
DTSTART:20261101T060000
END:STANDARD
END:VTIMEZONE
BEGIN:VEVENT
DTSTART;TZID=America/New_York:20250911T120000
DTEND;TZID=America/New_York:20250911T160000
DTSTAMP:20260423T193831
CREATED:20250728T190853Z
LAST-MODIFIED:20250728T191005Z
UID:33176-1757592000-1757606400@obo.columbiasc.gov
SUMMARY:Savannah River Nuclear Solutions Small Business Opportunity Day
DESCRIPTION:Join Savannah River Nuclear Solutions (SRNS) for their Small Business Opportunity Day on Thursday\, September 11th from 12:00pm – 4:00pm at the DoubleTree by Hilton Augusta\, Augusta\, GA! \nThis one-day event will spotlight upcoming procurement opportunities\, strategic partnerships\, and capacity-building resources available to businesses eager to work with SRNS! \nFor more information\, contact the Savannah River Nuclear Solutions Supplier Outreach group at supplier-outreach@srs.gov or click HERE to go to the event registration page!
URL:https://obo.columbiasc.gov/event/savannah-river-nuclear-solutions-small-business-opportunity-day/
LOCATION:DoubleTree by Hilton Augusta\, 2651 Perimeter Parkway\, Augusta\, GA\, 30909\, United States
ORGANIZER;CN="Savannah River Nuclear Solutions":MAILTO:supplier-outreach@srs.gov
END:VEVENT
END:VCALENDAR