BEGIN:VCALENDAR
VERSION:2.0
PRODID:-//City of Columbia OBO - ECPv6.15.15//NONSGML v1.0//EN
CALSCALE:GREGORIAN
METHOD:PUBLISH
X-WR-CALNAME:City of Columbia OBO
X-ORIGINAL-URL:https://obo.columbiasc.gov
X-WR-CALDESC:Events for City of Columbia OBO
REFRESH-INTERVAL;VALUE=DURATION:PT1H
X-Robots-Tag:noindex
X-PUBLISHED-TTL:PT1H
BEGIN:VTIMEZONE
TZID:America/New_York
BEGIN:DAYLIGHT
TZOFFSETFROM:-0500
TZOFFSETTO:-0400
TZNAME:EDT
DTSTART:20240310T070000
END:DAYLIGHT
BEGIN:STANDARD
TZOFFSETFROM:-0400
TZOFFSETTO:-0500
TZNAME:EST
DTSTART:20241103T060000
END:STANDARD
BEGIN:DAYLIGHT
TZOFFSETFROM:-0500
TZOFFSETTO:-0400
TZNAME:EDT
DTSTART:20250309T070000
END:DAYLIGHT
BEGIN:STANDARD
TZOFFSETFROM:-0400
TZOFFSETTO:-0500
TZNAME:EST
DTSTART:20251102T060000
END:STANDARD
BEGIN:DAYLIGHT
TZOFFSETFROM:-0500
TZOFFSETTO:-0400
TZNAME:EDT
DTSTART:20260308T070000
END:DAYLIGHT
BEGIN:STANDARD
TZOFFSETFROM:-0400
TZOFFSETTO:-0500
TZNAME:EST
DTSTART:20261101T060000
END:STANDARD
END:VTIMEZONE
BEGIN:VEVENT
DTSTART;TZID=America/New_York:20250731T130000
DTEND;TZID=America/New_York:20250731T140000
DTSTAMP:20260423T210627
CREATED:20250707T184656Z
LAST-MODIFIED:20250707T184656Z
UID:33112-1753966800-1753970400@obo.columbiasc.gov
SUMMARY:SBA Loan Opportunities for Small Businesses - Programs\, Eligibility and How to Apply
DESCRIPTION:The U.S. Small Business Administration will be hosting a webinar titled SBA Loan Opportunities for Small Businesses – Programs\, Eligibility and How to Apply on Thursday\, July 31st at 1:00 P.M.  During this webinar\,  participants will learn about the three SBA loan programs\, eligibility requirements\, and how to navigate the application process.  For more information and to register\, click HERE to go to Midlands SCORE’s webpage!
URL:https://obo.columbiasc.gov/event/sba-loan-opportunities-for-small-businesses-programs-eligibility-and-how-to-apply/
LOCATION:Online Webinar
END:VEVENT
END:VCALENDAR