BEGIN:VCALENDAR
VERSION:2.0
PRODID:-//City of Columbia OBO - ECPv6.15.15//NONSGML v1.0//EN
CALSCALE:GREGORIAN
METHOD:PUBLISH
X-WR-CALNAME:City of Columbia OBO
X-ORIGINAL-URL:https://obo.columbiasc.gov
X-WR-CALDESC:Events for City of Columbia OBO
REFRESH-INTERVAL;VALUE=DURATION:PT1H
X-Robots-Tag:noindex
X-PUBLISHED-TTL:PT1H
BEGIN:VTIMEZONE
TZID:America/New_York
BEGIN:DAYLIGHT
TZOFFSETFROM:-0500
TZOFFSETTO:-0400
TZNAME:EDT
DTSTART:20240310T070000
END:DAYLIGHT
BEGIN:STANDARD
TZOFFSETFROM:-0400
TZOFFSETTO:-0500
TZNAME:EST
DTSTART:20241103T060000
END:STANDARD
BEGIN:DAYLIGHT
TZOFFSETFROM:-0500
TZOFFSETTO:-0400
TZNAME:EDT
DTSTART:20250309T070000
END:DAYLIGHT
BEGIN:STANDARD
TZOFFSETFROM:-0400
TZOFFSETTO:-0500
TZNAME:EST
DTSTART:20251102T060000
END:STANDARD
BEGIN:DAYLIGHT
TZOFFSETFROM:-0500
TZOFFSETTO:-0400
TZNAME:EDT
DTSTART:20260308T070000
END:DAYLIGHT
BEGIN:STANDARD
TZOFFSETFROM:-0400
TZOFFSETTO:-0500
TZNAME:EST
DTSTART:20261101T060000
END:STANDARD
END:VTIMEZONE
BEGIN:VEVENT
DTSTART;TZID=America/New_York:20250723T090000
DTEND;TZID=America/New_York:20250723T100000
DTSTAMP:20260423T222756
CREATED:20250721T143318Z
LAST-MODIFIED:20250721T143318Z
UID:33150-1753261200-1753264800@obo.columbiasc.gov
SUMMARY:1 Million Cups with Ron Harvey
DESCRIPTION:1 Million Cups will be hosting another event on Wednesday\, July 23rd beginning at 9:00AM at the USC Tech Incubator\, 1225 Laurel Street\, 4th Floor in Columbia! \nThis week’s presenter is Mr. Ron Harvey\, Vice President and Chief Operating Officer of GlobalCore Strategies and Consulting.   Ron is dedicated to making a difference in the lives of others through his leadership development initiatives and participants will receive a wealth of knowledge from a successful entrepreneur! \nFor more information on 1 Million Cups and their upcoming events\, click HERE!
URL:https://obo.columbiasc.gov/event/1-million-cups-with-ron-harvey/
LOCATION:USC Technology Incubator\, 1225 Laurel Street\, 4th Floor\, Columbia\, SC\, 29201\, United States
END:VEVENT
BEGIN:VEVENT
DTSTART;TZID=America/New_York:20250723T180000
DTEND;TZID=America/New_York:20250723T190000
DTSTAMP:20260423T222756
CREATED:20250707T185421Z
LAST-MODIFIED:20250707T185421Z
UID:33116-1753293600-1753297200@obo.columbiasc.gov
SUMMARY:Richland Library EiR Presents: The Complete Entrepreneur\, Part 2
DESCRIPTION:  \nRichland Library’s Entrepreneur-in-Residence (EiR)\, Tom Ledbetter will lead an interactive session exploring the physical\, emotional\, psychological\, and relational impacts of undertaking a small business venture.  For more information and to register\, click HERE to go to Richland Library’s webpage!
URL:https://obo.columbiasc.gov/event/richland-library-eir-presents-the-complete-entrepreneur-part-2/
LOCATION:Richland Library Main – Auditorium\, 1431 Assembly Street\, Columbia\, SC\, 29201\, United States
END:VEVENT
END:VCALENDAR