BEGIN:VCALENDAR
VERSION:2.0
PRODID:-//City of Columbia OBO - ECPv6.15.15//NONSGML v1.0//EN
CALSCALE:GREGORIAN
METHOD:PUBLISH
X-WR-CALNAME:City of Columbia OBO
X-ORIGINAL-URL:https://obo.columbiasc.gov
X-WR-CALDESC:Events for City of Columbia OBO
REFRESH-INTERVAL;VALUE=DURATION:PT1H
X-Robots-Tag:noindex
X-PUBLISHED-TTL:PT1H
BEGIN:VTIMEZONE
TZID:America/New_York
BEGIN:DAYLIGHT
TZOFFSETFROM:-0500
TZOFFSETTO:-0400
TZNAME:EDT
DTSTART:20240310T070000
END:DAYLIGHT
BEGIN:STANDARD
TZOFFSETFROM:-0400
TZOFFSETTO:-0500
TZNAME:EST
DTSTART:20241103T060000
END:STANDARD
BEGIN:DAYLIGHT
TZOFFSETFROM:-0500
TZOFFSETTO:-0400
TZNAME:EDT
DTSTART:20250309T070000
END:DAYLIGHT
BEGIN:STANDARD
TZOFFSETFROM:-0400
TZOFFSETTO:-0500
TZNAME:EST
DTSTART:20251102T060000
END:STANDARD
BEGIN:DAYLIGHT
TZOFFSETFROM:-0500
TZOFFSETTO:-0400
TZNAME:EDT
DTSTART:20260308T070000
END:DAYLIGHT
BEGIN:STANDARD
TZOFFSETFROM:-0400
TZOFFSETTO:-0500
TZNAME:EST
DTSTART:20261101T060000
END:STANDARD
END:VTIMEZONE
BEGIN:VEVENT
DTSTART;TZID=America/New_York:20250618T180000
DTEND;TZID=America/New_York:20250618T200000
DTSTAMP:20260423T235559
CREATED:20250613T172858Z
LAST-MODIFIED:20250617T140251Z
UID:33046-1750269600-1750276800@obo.columbiasc.gov
SUMMARY:Juneteenth Small Business Workshop
DESCRIPTION:  \n \nThe City of Columbia’s Office of Business Opportunities and the SC Juneteenth Freedom Fest will be hosting the Juneteenth Small Business Workshop on Wednesday\, June 18th beginning at 6:00PM at the Busby Street Community Center\, 1735 Busby Street\, Columbia\, SC. \nRepresentatives from Woodforest Bank\, Palmetto Citizens FCU\, Wells Fargo\, SC Community Loan Fund and others will provide informative information and resources to the small business community!  For more information and to register\, click here to go to the SC Juneteenth Freedom Fest website!
URL:https://obo.columbiasc.gov/event/juneteenth-small-business-workshop/
LOCATION:Busby Street Community Center\, 1735 Busby Streeet\, Columbia\, SC\, 29203\, United States
END:VEVENT
END:VCALENDAR