BEGIN:VCALENDAR
VERSION:2.0
PRODID:-//City of Columbia OBO - ECPv6.15.15//NONSGML v1.0//EN
CALSCALE:GREGORIAN
METHOD:PUBLISH
X-WR-CALNAME:City of Columbia OBO
X-ORIGINAL-URL:https://obo.columbiasc.gov
X-WR-CALDESC:Events for City of Columbia OBO
REFRESH-INTERVAL;VALUE=DURATION:PT1H
X-Robots-Tag:noindex
X-PUBLISHED-TTL:PT1H
BEGIN:VTIMEZONE
TZID:America/New_York
BEGIN:DAYLIGHT
TZOFFSETFROM:-0500
TZOFFSETTO:-0400
TZNAME:EDT
DTSTART:20240310T070000
END:DAYLIGHT
BEGIN:STANDARD
TZOFFSETFROM:-0400
TZOFFSETTO:-0500
TZNAME:EST
DTSTART:20241103T060000
END:STANDARD
BEGIN:DAYLIGHT
TZOFFSETFROM:-0500
TZOFFSETTO:-0400
TZNAME:EDT
DTSTART:20250309T070000
END:DAYLIGHT
BEGIN:STANDARD
TZOFFSETFROM:-0400
TZOFFSETTO:-0500
TZNAME:EST
DTSTART:20251102T060000
END:STANDARD
BEGIN:DAYLIGHT
TZOFFSETFROM:-0500
TZOFFSETTO:-0400
TZNAME:EDT
DTSTART:20260308T070000
END:DAYLIGHT
BEGIN:STANDARD
TZOFFSETFROM:-0400
TZOFFSETTO:-0500
TZNAME:EST
DTSTART:20261101T060000
END:STANDARD
END:VTIMEZONE
BEGIN:VEVENT
DTSTART;TZID=America/New_York:20250612T100000
DTEND;TZID=America/New_York:20250612T123000
DTSTAMP:20260423T235559
CREATED:20250515T124550Z
LAST-MODIFIED:20250515T124550Z
UID:32957-1749722400-1749731400@obo.columbiasc.gov
SUMMARY:Supplier Readiness Roundtable
DESCRIPTION:Queen City Women In Business (QCWIB) will be hosting the Supplier Readiness Roundtable on Thursday\, June 12th at the Busby Street Community Center! \nParticipants at this event will hear from representatives from Self-Help Credit Union\, QC WIB\, U.S. Small Business Administration\, and the City of Columbia’s Office of Business Opportunities.  During this informative workshop\, participants will: \n\nDiscover how QCWIB/ProcuraFind is partnering with Self Help Credit Union to reach more small businesses!\nLearn how to get started with these companies!\nDiscover what companies look for in suppliers!\n\nFor more information and to register\, click here to go to the QCWIB webpage!
URL:https://obo.columbiasc.gov/event/supplier-readiness-roundtable/
LOCATION:Busby Street Community Center\, 1735 Busby Streeet\, Columbia\, SC\, 29203\, United States
ORGANIZER;CN="ProcuraFind (formerly Queen City Women in Business)":MAILTO:dawnnicole@qcwomeninbusiness.com
END:VEVENT
END:VCALENDAR