BEGIN:VCALENDAR
VERSION:2.0
PRODID:-//City of Columbia OBO - ECPv6.15.15//NONSGML v1.0//EN
CALSCALE:GREGORIAN
METHOD:PUBLISH
X-ORIGINAL-URL:https://obo.columbiasc.gov
X-WR-CALDESC:Events for City of Columbia OBO
REFRESH-INTERVAL;VALUE=DURATION:PT1H
X-Robots-Tag:noindex
X-PUBLISHED-TTL:PT1H
BEGIN:VTIMEZONE
TZID:America/New_York
BEGIN:DAYLIGHT
TZOFFSETFROM:-0500
TZOFFSETTO:-0400
TZNAME:EDT
DTSTART:20240310T070000
END:DAYLIGHT
BEGIN:STANDARD
TZOFFSETFROM:-0400
TZOFFSETTO:-0500
TZNAME:EST
DTSTART:20241103T060000
END:STANDARD
BEGIN:DAYLIGHT
TZOFFSETFROM:-0500
TZOFFSETTO:-0400
TZNAME:EDT
DTSTART:20250309T070000
END:DAYLIGHT
BEGIN:STANDARD
TZOFFSETFROM:-0400
TZOFFSETTO:-0500
TZNAME:EST
DTSTART:20251102T060000
END:STANDARD
BEGIN:DAYLIGHT
TZOFFSETFROM:-0500
TZOFFSETTO:-0400
TZNAME:EDT
DTSTART:20260308T070000
END:DAYLIGHT
BEGIN:STANDARD
TZOFFSETFROM:-0400
TZOFFSETTO:-0500
TZNAME:EST
DTSTART:20261101T060000
END:STANDARD
END:VTIMEZONE
BEGIN:VEVENT
DTSTART;TZID=America/New_York:20250603T080000
DTEND;TZID=America/New_York:20250603T100000
DTSTAMP:20260423T235656
CREATED:20250527T140802Z
LAST-MODIFIED:20250527T141840Z
UID:33002-1748937600-1748944800@obo.columbiasc.gov
SUMMARY:Timmons Group and Richland County OSBO Community Breakfast
DESCRIPTION:The Richland County Office of Small Business Opportunity (OSBO) and Timmons Group will be hosting a community breakfast on Tuesday\, June 3rd beginning at 8:00AM at the Truist Capital Center\, 1201 Main Street\, Columbia\, SC 29201. \nDuring this event\, participants will meet with representatives from Timmons Group\, OSBO staff\, and have the opportunity to connect with other like-minded small business leaders in the Columbia area! \nFor more information and to register\, click HERE to go to OSBO’s Eventbrite page!  You can also contact Niki Bayne at (704)498-8502 or Cliff Lawson at (803)636-2964
URL:https://obo.columbiasc.gov/event/timmons-group-and-richland-county-osbo-community-breakfast/
LOCATION:Truist Capital Center\, 1201 Main Street\, Columbia\, SC\, 29201\, United States
END:VEVENT
END:VCALENDAR