BEGIN:VCALENDAR
VERSION:2.0
PRODID:-//City of Columbia OBO - ECPv6.15.15//NONSGML v1.0//EN
CALSCALE:GREGORIAN
METHOD:PUBLISH
X-ORIGINAL-URL:https://obo.columbiasc.gov
X-WR-CALDESC:Events for City of Columbia OBO
REFRESH-INTERVAL;VALUE=DURATION:PT1H
X-Robots-Tag:noindex
X-PUBLISHED-TTL:PT1H
BEGIN:VTIMEZONE
TZID:America/New_York
BEGIN:DAYLIGHT
TZOFFSETFROM:-0500
TZOFFSETTO:-0400
TZNAME:EDT
DTSTART:20240310T070000
END:DAYLIGHT
BEGIN:STANDARD
TZOFFSETFROM:-0400
TZOFFSETTO:-0500
TZNAME:EST
DTSTART:20241103T060000
END:STANDARD
BEGIN:DAYLIGHT
TZOFFSETFROM:-0500
TZOFFSETTO:-0400
TZNAME:EDT
DTSTART:20250309T070000
END:DAYLIGHT
BEGIN:STANDARD
TZOFFSETFROM:-0400
TZOFFSETTO:-0500
TZNAME:EST
DTSTART:20251102T060000
END:STANDARD
BEGIN:DAYLIGHT
TZOFFSETFROM:-0500
TZOFFSETTO:-0400
TZNAME:EDT
DTSTART:20260308T070000
END:DAYLIGHT
BEGIN:STANDARD
TZOFFSETFROM:-0400
TZOFFSETTO:-0500
TZNAME:EST
DTSTART:20261101T060000
END:STANDARD
END:VTIMEZONE
BEGIN:VEVENT
DTSTART;TZID=America/New_York:20250509T090000
DTEND;TZID=America/New_York:20250509T153000
DTSTAMP:20260424T011921
CREATED:20250327T180442Z
LAST-MODIFIED:20250423T174501Z
UID:32811-1746781200-1746804600@obo.columbiasc.gov
SUMMARY:City of Columbia's 12th Annual Small Business Week Conference
DESCRIPTION:The City of Columbia’s Office of Business Opportunities will be hosting the City of Columbia’s 12th Annual Small Business Week Conference on Friday\, May 9\, 2025 at the Marriott Columbia\, 1200 Hampton Street\, Columbia\, SC 29201.  During this conference\, we will have breakout sessions\, keynote speakers\, and more. \nThe U.S.  Small Business Administration will also host their annual statewide awards ceremony and matchmaking event in the afternoon! \nEarly bird tickets start at $25.00 until April 24th.  After\, the price will be $35.00  For more information and to register\, go to our Small Business Week Conference Eventbrite page! \nIf you have questions on the Small Business Week Conference\, contact Kalenna Ginyard\, OBO Program Compliance Specialist at (803)545-3950. \nFor any questions on SBA’s matchmaking event\, contact Angela Brewer\, SBA Business Opportunity Specialist at (803)765-5907.
URL:https://obo.columbiasc.gov/event/city-of-columbias-12th-annual-small-business-week-conference/
LOCATION:Marriott Columbia\, 1200 Hampton Street\, Columbia\, SC\, 29201\, United States
END:VEVENT
END:VCALENDAR