BEGIN:VCALENDAR
VERSION:2.0
PRODID:-//City of Columbia OBO - ECPv6.15.15//NONSGML v1.0//EN
CALSCALE:GREGORIAN
METHOD:PUBLISH
X-WR-CALNAME:City of Columbia OBO
X-ORIGINAL-URL:https://obo.columbiasc.gov
X-WR-CALDESC:Events for City of Columbia OBO
REFRESH-INTERVAL;VALUE=DURATION:PT1H
X-Robots-Tag:noindex
X-PUBLISHED-TTL:PT1H
BEGIN:VTIMEZONE
TZID:America/New_York
BEGIN:DAYLIGHT
TZOFFSETFROM:-0500
TZOFFSETTO:-0400
TZNAME:EDT
DTSTART:20240310T070000
END:DAYLIGHT
BEGIN:STANDARD
TZOFFSETFROM:-0400
TZOFFSETTO:-0500
TZNAME:EST
DTSTART:20241103T060000
END:STANDARD
BEGIN:DAYLIGHT
TZOFFSETFROM:-0500
TZOFFSETTO:-0400
TZNAME:EDT
DTSTART:20250309T070000
END:DAYLIGHT
BEGIN:STANDARD
TZOFFSETFROM:-0400
TZOFFSETTO:-0500
TZNAME:EST
DTSTART:20251102T060000
END:STANDARD
BEGIN:DAYLIGHT
TZOFFSETFROM:-0500
TZOFFSETTO:-0400
TZNAME:EDT
DTSTART:20260308T070000
END:DAYLIGHT
BEGIN:STANDARD
TZOFFSETFROM:-0400
TZOFFSETTO:-0500
TZNAME:EST
DTSTART:20261101T060000
END:STANDARD
END:VTIMEZONE
BEGIN:VEVENT
DTSTART;TZID=America/New_York:20250507T080000
DTEND;TZID=America/New_York:20250507T090000
DTSTAMP:20260424T011740
CREATED:20250414T173114Z
LAST-MODIFIED:20250414T173114Z
UID:32878-1746604800-1746608400@obo.columbiasc.gov
SUMMARY:Columbia Chamber Procurement Small Business Month
DESCRIPTION:The Columbia Chamber of Commerce will be hosting two Procurement events during the month of May!  On May 7th\, there will be a Gather and Grow event which focuses on how small businesses can take advantage of procurement opportunities with federal\, city\, county\, state\, and private sector entities!  On May 22nd the Chamber will host a Procurement Matchmaker Event sponsored by Goodwill which will help connect vendors with procurement needs with small businesses seeking opportunities! \nTo sign up to be a vendor at the May 22nd event\, click HERE for more information. \nTo register for Part 1 of this series\, click HERE!
URL:https://obo.columbiasc.gov/event/columbia-chamber-procurement-small-business-month/
LOCATION:Segra Park – Columbia Fireflies Stadium\, 1640 Freed Street\, Columbia\, SC\, 29201\, United States
END:VEVENT
END:VCALENDAR