BEGIN:VCALENDAR
VERSION:2.0
PRODID:-//City of Columbia OBO - ECPv6.15.15//NONSGML v1.0//EN
CALSCALE:GREGORIAN
METHOD:PUBLISH
X-ORIGINAL-URL:https://obo.columbiasc.gov
X-WR-CALDESC:Events for City of Columbia OBO
REFRESH-INTERVAL;VALUE=DURATION:PT1H
X-Robots-Tag:noindex
X-PUBLISHED-TTL:PT1H
BEGIN:VTIMEZONE
TZID:America/New_York
BEGIN:DAYLIGHT
TZOFFSETFROM:-0500
TZOFFSETTO:-0400
TZNAME:EDT
DTSTART:20240310T070000
END:DAYLIGHT
BEGIN:STANDARD
TZOFFSETFROM:-0400
TZOFFSETTO:-0500
TZNAME:EST
DTSTART:20241103T060000
END:STANDARD
BEGIN:DAYLIGHT
TZOFFSETFROM:-0500
TZOFFSETTO:-0400
TZNAME:EDT
DTSTART:20250309T070000
END:DAYLIGHT
BEGIN:STANDARD
TZOFFSETFROM:-0400
TZOFFSETTO:-0500
TZNAME:EST
DTSTART:20251102T060000
END:STANDARD
BEGIN:DAYLIGHT
TZOFFSETFROM:-0500
TZOFFSETTO:-0400
TZNAME:EDT
DTSTART:20260308T070000
END:DAYLIGHT
BEGIN:STANDARD
TZOFFSETFROM:-0400
TZOFFSETTO:-0500
TZNAME:EST
DTSTART:20261101T060000
END:STANDARD
END:VTIMEZONE
BEGIN:VEVENT
DTSTART;TZID=America/New_York:20250417T140000
DTEND;TZID=America/New_York:20250417T150000
DTSTAMP:20260424T023251
CREATED:20250331T192218Z
LAST-MODIFIED:20250331T192218Z
UID:32836-1744898400-1744902000@obo.columbiasc.gov
SUMMARY:Benedict College Women's Business Center Offering Free Webinars in April
DESCRIPTION:The Benedict College Women’s Business Center will be offering free webinars for the month of April.  these webinars will be held beginning at 2:00PM via Zoom.  For more information and to register\, click on one of the webinar titles.  Here are the webinars for April: \nApril 1 – Basic Financial Literacy for Business Owners \nApril 3 – Defining Your Ideal Customer \nApril 17 – How to Avoid Underpricing When Starting Out \nFor more information\, feel free to contact the Benedict College Women’s Business Center at (803)705-4641 or visit their website benedictcollegewbc.com!
URL:https://obo.columbiasc.gov/event/benedict-college-womens-business-center-offering-free-webinars-in-april-3/
LOCATION:Zoom
END:VEVENT
END:VCALENDAR