BEGIN:VCALENDAR
VERSION:2.0
PRODID:-//City of Columbia OBO - ECPv6.15.15//NONSGML v1.0//EN
CALSCALE:GREGORIAN
METHOD:PUBLISH
X-ORIGINAL-URL:https://obo.columbiasc.gov
X-WR-CALDESC:Events for City of Columbia OBO
REFRESH-INTERVAL;VALUE=DURATION:PT1H
X-Robots-Tag:noindex
X-PUBLISHED-TTL:PT1H
BEGIN:VTIMEZONE
TZID:America/New_York
BEGIN:DAYLIGHT
TZOFFSETFROM:-0500
TZOFFSETTO:-0400
TZNAME:EDT
DTSTART:20240310T070000
END:DAYLIGHT
BEGIN:STANDARD
TZOFFSETFROM:-0400
TZOFFSETTO:-0500
TZNAME:EST
DTSTART:20241103T060000
END:STANDARD
BEGIN:DAYLIGHT
TZOFFSETFROM:-0500
TZOFFSETTO:-0400
TZNAME:EDT
DTSTART:20250309T070000
END:DAYLIGHT
BEGIN:STANDARD
TZOFFSETFROM:-0400
TZOFFSETTO:-0500
TZNAME:EST
DTSTART:20251102T060000
END:STANDARD
BEGIN:DAYLIGHT
TZOFFSETFROM:-0500
TZOFFSETTO:-0400
TZNAME:EDT
DTSTART:20260308T070000
END:DAYLIGHT
BEGIN:STANDARD
TZOFFSETFROM:-0400
TZOFFSETTO:-0500
TZNAME:EST
DTSTART:20261101T060000
END:STANDARD
END:VTIMEZONE
BEGIN:VEVENT
DTSTART;TZID=America/New_York:20250402T080000
DTEND;TZID=America/New_York:20250402T210000
DTSTAMP:20260424T023250
CREATED:20250318T121419Z
LAST-MODIFIED:20250318T121419Z
UID:32784-1743580800-1743627600@obo.columbiasc.gov
SUMMARY:Harnessing AI for Sales and Marketing: Practical Tools to Drive Efficiency & Effectiveness
DESCRIPTION:The Columbia Chamber of Commerce’s Gather and Grow presents Harnessing AI for Sales and Marketing: Practical Tools to Drive Efficiency & Effectiveness on Wednesday\, April 2nd beginning at 8:00AM at the Heyward Career Center. \nThe guest speaker is Alex Moore\, Senior Partner of Stratagon will provide tools and resources to attendees on artificial intelligence (AI).  For more information and to register\, click HERE to go to the Chamber’s events page!
URL:https://obo.columbiasc.gov/event/harnessing-ai-for-sales-and-marketing-practical-tools-to-drive-efficiency-effectiveness/
LOCATION:Heyward Career Center\, 3560 Lynhaven Drive\, Columbia\, SC\, 29204\, United States
END:VEVENT
END:VCALENDAR