BEGIN:VCALENDAR
VERSION:2.0
PRODID:-//City of Columbia OBO - ECPv6.15.15//NONSGML v1.0//EN
CALSCALE:GREGORIAN
METHOD:PUBLISH
X-WR-CALNAME:City of Columbia OBO
X-ORIGINAL-URL:https://obo.columbiasc.gov
X-WR-CALDESC:Events for City of Columbia OBO
REFRESH-INTERVAL;VALUE=DURATION:PT1H
X-Robots-Tag:noindex
X-PUBLISHED-TTL:PT1H
BEGIN:VTIMEZONE
TZID:America/New_York
BEGIN:DAYLIGHT
TZOFFSETFROM:-0500
TZOFFSETTO:-0400
TZNAME:EDT
DTSTART:20240310T070000
END:DAYLIGHT
BEGIN:STANDARD
TZOFFSETFROM:-0400
TZOFFSETTO:-0500
TZNAME:EST
DTSTART:20241103T060000
END:STANDARD
BEGIN:DAYLIGHT
TZOFFSETFROM:-0500
TZOFFSETTO:-0400
TZNAME:EDT
DTSTART:20250309T070000
END:DAYLIGHT
BEGIN:STANDARD
TZOFFSETFROM:-0400
TZOFFSETTO:-0500
TZNAME:EST
DTSTART:20251102T060000
END:STANDARD
BEGIN:DAYLIGHT
TZOFFSETFROM:-0500
TZOFFSETTO:-0400
TZNAME:EDT
DTSTART:20260308T070000
END:DAYLIGHT
BEGIN:STANDARD
TZOFFSETFROM:-0400
TZOFFSETTO:-0500
TZNAME:EST
DTSTART:20261101T060000
END:STANDARD
END:VTIMEZONE
BEGIN:VEVENT
DTSTART;TZID=America/New_York:20250320T100000
DTEND;TZID=America/New_York:20250320T123000
DTSTAMP:20260424T040221
CREATED:20250225T192538Z
LAST-MODIFIED:20250225T192538Z
UID:32723-1742464800-1742473800@obo.columbiasc.gov
SUMMARY:Finance Forward: Unlocking Access to Capital for Your Business
DESCRIPTION:The Richland County Office of Small Business Opportunity (OSBO) will be hosting their 2025 Business Academy\, Finance Forward: Unlocking Access to Capital for Your Business on Thursday\, March 20th beginning at 10:00AM! \nDuring this conference\, participants will hear from representatives from Capital Funding Solutions\, SC Community Loan Fund\, CommunityWorks\, and Security Federal Bank on tools and resources to receive funding for your small business! \nRegistration is open and lunch will be provided.  For more information and to register\, click here to go to the Richland County OSBO webpage!
URL:https://obo.columbiasc.gov/event/finance-forward-unlocking-access-to-capital-for-your-business/
LOCATION:Richland County Administration Building\, 2020 Hampton Street (4th Floor Conference Room)\, Columbia\, SC\, 29204\, United States
END:VEVENT
END:VCALENDAR