BEGIN:VCALENDAR
VERSION:2.0
PRODID:-//City of Columbia OBO - ECPv6.15.15//NONSGML v1.0//EN
CALSCALE:GREGORIAN
METHOD:PUBLISH
X-ORIGINAL-URL:https://obo.columbiasc.gov
X-WR-CALDESC:Events for City of Columbia OBO
REFRESH-INTERVAL;VALUE=DURATION:PT1H
X-Robots-Tag:noindex
X-PUBLISHED-TTL:PT1H
BEGIN:VTIMEZONE
TZID:America/New_York
BEGIN:DAYLIGHT
TZOFFSETFROM:-0500
TZOFFSETTO:-0400
TZNAME:EDT
DTSTART:20240310T070000
END:DAYLIGHT
BEGIN:STANDARD
TZOFFSETFROM:-0400
TZOFFSETTO:-0500
TZNAME:EST
DTSTART:20241103T060000
END:STANDARD
BEGIN:DAYLIGHT
TZOFFSETFROM:-0500
TZOFFSETTO:-0400
TZNAME:EDT
DTSTART:20250309T070000
END:DAYLIGHT
BEGIN:STANDARD
TZOFFSETFROM:-0400
TZOFFSETTO:-0500
TZNAME:EST
DTSTART:20251102T060000
END:STANDARD
BEGIN:DAYLIGHT
TZOFFSETFROM:-0500
TZOFFSETTO:-0400
TZNAME:EDT
DTSTART:20260308T070000
END:DAYLIGHT
BEGIN:STANDARD
TZOFFSETFROM:-0400
TZOFFSETTO:-0500
TZNAME:EST
DTSTART:20261101T060000
END:STANDARD
END:VTIMEZONE
BEGIN:VEVENT
DTSTART;TZID=America/New_York:20250312T100000
DTEND;TZID=America/New_York:20250312T123000
DTSTAMP:20260424T040023
CREATED:20250210T140844Z
LAST-MODIFIED:20250210T140844Z
UID:32703-1741773600-1741782600@obo.columbiasc.gov
SUMMARY:Foundations for Success: Building and Growing Your Small Business
DESCRIPTION:The City of Columbia’s Office of Business Opportunities will be hosting the Foundations for Success: Building and Growing Your Small Business workshop on Wednesday\, March 12th beginning at 10:00AM at the Earlewood Park Community Center! \nTosha Dash of S.H.E. Dreams Consulting will provide insight and resources to female entrepreneurs and small business owners on how they grow their small business!  This event is free but registration is required.  For more information and to register\, click here to go to the OBO Eventbrite webpage!
URL:https://obo.columbiasc.gov/event/foundations-for-success-building-and-growing-your-small-business/
LOCATION:Earlewood Park Community Center\, 1113 Recreation Drive\, Columbia\, SC\, 29203\, United States
END:VEVENT
END:VCALENDAR