BEGIN:VCALENDAR
VERSION:2.0
PRODID:-//City of Columbia OBO - ECPv6.15.15//NONSGML v1.0//EN
CALSCALE:GREGORIAN
METHOD:PUBLISH
X-ORIGINAL-URL:https://obo.columbiasc.gov
X-WR-CALDESC:Events for City of Columbia OBO
REFRESH-INTERVAL;VALUE=DURATION:PT1H
X-Robots-Tag:noindex
X-PUBLISHED-TTL:PT1H
BEGIN:VTIMEZONE
TZID:America/New_York
BEGIN:DAYLIGHT
TZOFFSETFROM:-0500
TZOFFSETTO:-0400
TZNAME:EDT
DTSTART:20230312T070000
END:DAYLIGHT
BEGIN:STANDARD
TZOFFSETFROM:-0400
TZOFFSETTO:-0500
TZNAME:EST
DTSTART:20231105T060000
END:STANDARD
BEGIN:DAYLIGHT
TZOFFSETFROM:-0500
TZOFFSETTO:-0400
TZNAME:EDT
DTSTART:20240310T070000
END:DAYLIGHT
BEGIN:STANDARD
TZOFFSETFROM:-0400
TZOFFSETTO:-0500
TZNAME:EST
DTSTART:20241103T060000
END:STANDARD
BEGIN:DAYLIGHT
TZOFFSETFROM:-0500
TZOFFSETTO:-0400
TZNAME:EDT
DTSTART:20250309T070000
END:DAYLIGHT
BEGIN:STANDARD
TZOFFSETFROM:-0400
TZOFFSETTO:-0500
TZNAME:EST
DTSTART:20251102T060000
END:STANDARD
END:VTIMEZONE
BEGIN:VEVENT
DTSTART;TZID=America/New_York:20241204T110000
DTEND;TZID=America/New_York:20241204T120000
DTSTAMP:20260424T084151
CREATED:20241105T142842Z
LAST-MODIFIED:20241105T142842Z
UID:32391-1733310000-1733313600@obo.columbiasc.gov
SUMMARY:Urban Institute Presents: Building the Carolinas Tech Future With Homegrown Talent
DESCRIPTION:Join the Urban Institute\, ApprenticeshipNC\, and Apprenticeship Carolina to celebrate and reflect on next steps for the Small and Medium Business Tech Apprenticeship Project. \nThis project supports small- and medium-sized businesses in North and South Carolina in building registered apprenticeship programs for tech occupations. Attendees will hear from both state agencies about how the project has supported investment in a tech workforce in each state\, featuring success stories from employers. With the project approaching its final year\, Urban will discuss how employers can receive technical assistance to register apprenticeship programs to meet their tech workforce needs. Employers will also learn how to access funding supports for their apprenticeship programs and how to support apprentice learning with free trainings and certification opportunities in a range of IT occupations through the online learning platform Coursera. \nFor more information and to register\, click here to go to the registration page!
URL:https://obo.columbiasc.gov/event/urban-institute-presents-building-the-carolinas-tech-future-with-homegrown-talent/
LOCATION:Virtual Event
END:VEVENT
END:VCALENDAR