BEGIN:VCALENDAR
VERSION:2.0
PRODID:-//City of Columbia OBO - ECPv6.15.15//NONSGML v1.0//EN
CALSCALE:GREGORIAN
METHOD:PUBLISH
X-ORIGINAL-URL:https://obo.columbiasc.gov
X-WR-CALDESC:Events for City of Columbia OBO
REFRESH-INTERVAL;VALUE=DURATION:PT1H
X-Robots-Tag:noindex
X-PUBLISHED-TTL:PT1H
BEGIN:VTIMEZONE
TZID:America/New_York
BEGIN:DAYLIGHT
TZOFFSETFROM:-0500
TZOFFSETTO:-0400
TZNAME:EDT
DTSTART:20230312T070000
END:DAYLIGHT
BEGIN:STANDARD
TZOFFSETFROM:-0400
TZOFFSETTO:-0500
TZNAME:EST
DTSTART:20231105T060000
END:STANDARD
BEGIN:DAYLIGHT
TZOFFSETFROM:-0500
TZOFFSETTO:-0400
TZNAME:EDT
DTSTART:20240310T070000
END:DAYLIGHT
BEGIN:STANDARD
TZOFFSETFROM:-0400
TZOFFSETTO:-0500
TZNAME:EST
DTSTART:20241103T060000
END:STANDARD
BEGIN:DAYLIGHT
TZOFFSETFROM:-0500
TZOFFSETTO:-0400
TZNAME:EDT
DTSTART:20250309T070000
END:DAYLIGHT
BEGIN:STANDARD
TZOFFSETFROM:-0400
TZOFFSETTO:-0500
TZNAME:EST
DTSTART:20251102T060000
END:STANDARD
END:VTIMEZONE
BEGIN:VEVENT
DTSTART;TZID=America/New_York:20241022T120000
DTEND;TZID=America/New_York:20241024T130000
DTSTAMP:20260424T113444
CREATED:20241010T160007Z
LAST-MODIFIED:20241016T180133Z
UID:32285-1729598400-1729774800@obo.columbiasc.gov
SUMMARY:Redwood Materials Supplier Day Event hosted by SC Department of Commerce
DESCRIPTION:The South Carolina Department of Commerce and Redwood Materials will be hosting a two-day\, in-person Supplier Day Event on October 22\, 23\, and 24 in Columbia and Berkeley County. \nThis serves as an opportunity for SC suppliers to meet with Redwood Materials procurement personnel and learn more about their current and ongoing supplier needs. \nAlso\, due to the overwhelming response\, another date has been added for Columbia! \nThe dates and locations are as follows: \nOctober 22nd – Columbia\, SC (12:00 – 4:00PM) Just added!  \nOctober 23rd – Columbia\, SC (8:30 – 11:30AM) \nOctober 24th – Berkeley County (8:30AM – 1:00PM) \nThis is a FREE event\, however registration is required.  For more information and to register\, click one one of the dates for more information! \n 
URL:https://obo.columbiasc.gov/event/redwood-materials-supplier-day-event/
LOCATION:SC
ORGANIZER;CN="South Carolina Department of Commerce":MAILTO:SmallBizSupport@sccommerce.com
END:VEVENT
END:VCALENDAR