BEGIN:VCALENDAR
VERSION:2.0
PRODID:-//City of Columbia OBO - ECPv6.15.15//NONSGML v1.0//EN
CALSCALE:GREGORIAN
METHOD:PUBLISH
X-WR-CALNAME:City of Columbia OBO
X-ORIGINAL-URL:https://obo.columbiasc.gov
X-WR-CALDESC:Events for City of Columbia OBO
REFRESH-INTERVAL;VALUE=DURATION:PT1H
X-Robots-Tag:noindex
X-PUBLISHED-TTL:PT1H
BEGIN:VTIMEZONE
TZID:America/New_York
BEGIN:DAYLIGHT
TZOFFSETFROM:-0500
TZOFFSETTO:-0400
TZNAME:EDT
DTSTART:20230312T070000
END:DAYLIGHT
BEGIN:STANDARD
TZOFFSETFROM:-0400
TZOFFSETTO:-0500
TZNAME:EST
DTSTART:20231105T060000
END:STANDARD
BEGIN:DAYLIGHT
TZOFFSETFROM:-0500
TZOFFSETTO:-0400
TZNAME:EDT
DTSTART:20240310T070000
END:DAYLIGHT
BEGIN:STANDARD
TZOFFSETFROM:-0400
TZOFFSETTO:-0500
TZNAME:EST
DTSTART:20241103T060000
END:STANDARD
BEGIN:DAYLIGHT
TZOFFSETFROM:-0500
TZOFFSETTO:-0400
TZNAME:EDT
DTSTART:20250309T070000
END:DAYLIGHT
BEGIN:STANDARD
TZOFFSETFROM:-0400
TZOFFSETTO:-0500
TZNAME:EST
DTSTART:20251102T060000
END:STANDARD
END:VTIMEZONE
BEGIN:VEVENT
DTSTART;TZID=America/New_York:20241017T083000
DTEND;TZID=America/New_York:20241017T103000
DTSTAMP:20260424T113432
CREATED:20241004T143943Z
LAST-MODIFIED:20241004T143943Z
UID:32261-1729153800-1729161000@obo.columbiasc.gov
SUMMARY:Make That Dough
DESCRIPTION:The Columbia Food Policy Committee will be hosting the Make That Dough event for entrepreneurs and non-profit organizations on Thursday\, October 17th beginning at 8:30AM at the Busby Street Community Center\, 1735 Busby Street\, Columbia\, SC 29203. \nFor more information and to register\, click here to go to the Make That Dough registration page!
URL:https://obo.columbiasc.gov/event/make-that-dough/
LOCATION:Busby Street Community Center\, 1735 Busby Streeet\, Columbia\, SC\, 29203\, United States
END:VEVENT
BEGIN:VEVENT
DTSTART;TZID=America/New_York:20241017T160000
DTEND;TZID=America/New_York:20241017T170000
DTSTAMP:20260424T113432
CREATED:20241001T151427Z
LAST-MODIFIED:20241001T151427Z
UID:32212-1729180800-1729184400@obo.columbiasc.gov
SUMMARY:1099 Compliance Regulations: Essential Tips and Tools for Small Businesses
DESCRIPTION:The SC MBDA Business Center and DESA\, Inc. are hosting the 1099 Compliance Requirements workshop on Thursday\, October 17th beginning at 4:00PM.  During this informative workshop\, Evette Davis from the Internal Revenue Service (IRS) will provide participants information on E-filing requirements and best practices for small business owners to avoid common tax problems and tax scams.  For more information and to register\, click here to go to the webinar registration page!
URL:https://obo.columbiasc.gov/event/1099-compliance-regulations-essential-tips-and-tools-for-small-businesses/
LOCATION:Virtual Event
ORGANIZER;CN="SC MBDA Business Center":MAILTO:registration@desainc.com
END:VEVENT
END:VCALENDAR