BEGIN:VCALENDAR
VERSION:2.0
PRODID:-//City of Columbia OBO - ECPv6.15.15//NONSGML v1.0//EN
CALSCALE:GREGORIAN
METHOD:PUBLISH
X-WR-CALNAME:City of Columbia OBO
X-ORIGINAL-URL:https://obo.columbiasc.gov
X-WR-CALDESC:Events for City of Columbia OBO
REFRESH-INTERVAL;VALUE=DURATION:PT1H
X-Robots-Tag:noindex
X-PUBLISHED-TTL:PT1H
BEGIN:VTIMEZONE
TZID:America/New_York
BEGIN:DAYLIGHT
TZOFFSETFROM:-0500
TZOFFSETTO:-0400
TZNAME:EDT
DTSTART:20230312T070000
END:DAYLIGHT
BEGIN:STANDARD
TZOFFSETFROM:-0400
TZOFFSETTO:-0500
TZNAME:EST
DTSTART:20231105T060000
END:STANDARD
BEGIN:DAYLIGHT
TZOFFSETFROM:-0500
TZOFFSETTO:-0400
TZNAME:EDT
DTSTART:20240310T070000
END:DAYLIGHT
BEGIN:STANDARD
TZOFFSETFROM:-0400
TZOFFSETTO:-0500
TZNAME:EST
DTSTART:20241103T060000
END:STANDARD
BEGIN:DAYLIGHT
TZOFFSETFROM:-0500
TZOFFSETTO:-0400
TZNAME:EDT
DTSTART:20250309T070000
END:DAYLIGHT
BEGIN:STANDARD
TZOFFSETFROM:-0400
TZOFFSETTO:-0500
TZNAME:EST
DTSTART:20251102T060000
END:STANDARD
END:VTIMEZONE
BEGIN:VEVENT
DTSTART;TZID=America/New_York:20240926T100000
DTEND;TZID=America/New_York:20240926T120000
DTSTAMP:20260424T142721
CREATED:20240903T152521Z
LAST-MODIFIED:20240903T152521Z
UID:32124-1727344800-1727352000@obo.columbiasc.gov
SUMMARY:CrossFit: Building and Managing Multi-Generational & Cross-Functioning Teams
DESCRIPTION:The Office of Business Opportunities will be hosting the CrossFit: Building and Managing Multi-Generational & Cross-Functioning Teams workshop on Thursday\, September 26th beginning at 10:00AM! \nThis virtual and in-person workshop features Tyson Brown\, Founder and Executive Director of Project OneWay Incorporated.  This is another workshop from Tyson’s Bridging the Generational Gap in the Workplace series that focuses on the necessary strategies to ensure multi-generational and cross-functioning teams collaborate healthily in a variety of shared spaces – including the workplace. \nRegistration is open and more information can be found on OBO’s Eventbrite page or you can scan the QR code found in the flyer above!  For more information and questions\, contact Kalenna Ginyard at (803)545-3950 or click on her name to send an email! \n 
URL:https://obo.columbiasc.gov/event/crossfit-building-and-managing-multi-generational-cross-functioning-teams/
LOCATION:Busby Street Community Center\, 1735 Busby Streeet\, Columbia\, SC\, 29203\, United States
END:VEVENT
END:VCALENDAR