BEGIN:VCALENDAR
VERSION:2.0
PRODID:-//City of Columbia OBO - ECPv6.15.15//NONSGML v1.0//EN
CALSCALE:GREGORIAN
METHOD:PUBLISH
X-WR-CALNAME:City of Columbia OBO
X-ORIGINAL-URL:https://obo.columbiasc.gov
X-WR-CALDESC:Events for City of Columbia OBO
REFRESH-INTERVAL;VALUE=DURATION:PT1H
X-Robots-Tag:noindex
X-PUBLISHED-TTL:PT1H
BEGIN:VTIMEZONE
TZID:America/New_York
BEGIN:DAYLIGHT
TZOFFSETFROM:-0500
TZOFFSETTO:-0400
TZNAME:EDT
DTSTART:20230312T070000
END:DAYLIGHT
BEGIN:STANDARD
TZOFFSETFROM:-0400
TZOFFSETTO:-0500
TZNAME:EST
DTSTART:20231105T060000
END:STANDARD
BEGIN:DAYLIGHT
TZOFFSETFROM:-0500
TZOFFSETTO:-0400
TZNAME:EDT
DTSTART:20240310T070000
END:DAYLIGHT
BEGIN:STANDARD
TZOFFSETFROM:-0400
TZOFFSETTO:-0500
TZNAME:EST
DTSTART:20241103T060000
END:STANDARD
BEGIN:DAYLIGHT
TZOFFSETFROM:-0500
TZOFFSETTO:-0400
TZNAME:EDT
DTSTART:20250309T070000
END:DAYLIGHT
BEGIN:STANDARD
TZOFFSETFROM:-0400
TZOFFSETTO:-0500
TZNAME:EST
DTSTART:20251102T060000
END:STANDARD
END:VTIMEZONE
BEGIN:VEVENT
DTSTART;TZID=America/New_York:20240918T080000
DTEND;TZID=America/New_York:20240918T150000
DTSTAMP:20260424T142721
CREATED:20240805T152617Z
LAST-MODIFIED:20240820T113707Z
UID:32047-1726646400-1726671600@obo.columbiasc.gov
SUMMARY:Richland County OSBO 6th Annual SURGE 24
DESCRIPTION:Richland County Office of Small Business Opportunity (OSBO) in collaboration with the Office of Business Opportunities (OBO) will be hosting the 6th Annual Small Business Conference: SURGE 24: Strategic Utilization of Resources for Growth & Expansion on September 18th from 8:00AM – 3:00PM at the Richland Two Institute of Innovation (R2i2)\, 763 Fashion Drive\, Columbia\, SC 29229. \nThis year’s conference will focus on providing a number of workshops that will offer valuable information to help owners build\, grow\, and scale their business!  There will also be a panel to discuss contracting opportunities for small business owners\, a vendor village and more! \nFor more information\, contact the Richland County Office of Small Business Opportunity at (803)576-1540 or click on their name to send an email!  To register\, click here!
URL:https://obo.columbiasc.gov/event/richland-county-osbo-6th-annual-surge-24/
LOCATION:Richland Two Institute Of Innovation (R2i2)\, 763 Fashion Drive\, Columbia\, SC\, 29229\, United States
END:VEVENT
END:VCALENDAR