BEGIN:VCALENDAR
VERSION:2.0
PRODID:-//City of Columbia OBO - ECPv6.15.15//NONSGML v1.0//EN
CALSCALE:GREGORIAN
METHOD:PUBLISH
X-ORIGINAL-URL:https://obo.columbiasc.gov
X-WR-CALDESC:Events for City of Columbia OBO
REFRESH-INTERVAL;VALUE=DURATION:PT1H
X-Robots-Tag:noindex
X-PUBLISHED-TTL:PT1H
BEGIN:VTIMEZONE
TZID:America/New_York
BEGIN:DAYLIGHT
TZOFFSETFROM:-0500
TZOFFSETTO:-0400
TZNAME:EDT
DTSTART:20230312T070000
END:DAYLIGHT
BEGIN:STANDARD
TZOFFSETFROM:-0400
TZOFFSETTO:-0500
TZNAME:EST
DTSTART:20231105T060000
END:STANDARD
BEGIN:DAYLIGHT
TZOFFSETFROM:-0500
TZOFFSETTO:-0400
TZNAME:EDT
DTSTART:20240310T070000
END:DAYLIGHT
BEGIN:STANDARD
TZOFFSETFROM:-0400
TZOFFSETTO:-0500
TZNAME:EST
DTSTART:20241103T060000
END:STANDARD
BEGIN:DAYLIGHT
TZOFFSETFROM:-0500
TZOFFSETTO:-0400
TZNAME:EDT
DTSTART:20250309T070000
END:DAYLIGHT
BEGIN:STANDARD
TZOFFSETFROM:-0400
TZOFFSETTO:-0500
TZNAME:EST
DTSTART:20251102T060000
END:STANDARD
END:VTIMEZONE
BEGIN:VEVENT
DTSTART;TZID=America/New_York:20240822T120000
DTEND;TZID=America/New_York:20240822T133000
DTSTAMP:20260424T154701
CREATED:20240716T195357Z
LAST-MODIFIED:20240716T195357Z
UID:32013-1724328000-1724333400@obo.columbiasc.gov
SUMMARY:Unlocking Opportunities: Effective Networking Strategies to Build\, Grow\, and Scale Your Business
DESCRIPTION:The Richland County Office of Small Business Opportunity (OSBO) will be hosting the Unlocking Opportunities: Effective Networking Strategies to Build\, Grow\, and Scale Your Business workshop on Thursday\, August 22nd beginning at 12:00PM. \nDuring this virtual workshop\, participants will learn: \n\nHow to build/target/identify relationships for business growth.\nHow to initiate meaningful conversations to spark interest under 30 seconds.\n\nTo register for this event\, click here to go to Richland County OSBO’s Zoom registration page! \nIf you have any questions or would like more information\, contact the Richland County Office of Small Business Opportunity at (803)576-1540 or send an email to OSBO@richlandcountysc.gov!
URL:https://obo.columbiasc.gov/event/unlocking-opportunities-effective-networking-strategies-to-build-grow-and-scale-your-business/
LOCATION:Virtual Event
END:VEVENT
END:VCALENDAR