BEGIN:VCALENDAR
VERSION:2.0
PRODID:-//City of Columbia OBO - ECPv6.15.15//NONSGML v1.0//EN
CALSCALE:GREGORIAN
METHOD:PUBLISH
X-ORIGINAL-URL:https://obo.columbiasc.gov
X-WR-CALDESC:Events for City of Columbia OBO
REFRESH-INTERVAL;VALUE=DURATION:PT1H
X-Robots-Tag:noindex
X-PUBLISHED-TTL:PT1H
BEGIN:VTIMEZONE
TZID:America/New_York
BEGIN:DAYLIGHT
TZOFFSETFROM:-0500
TZOFFSETTO:-0400
TZNAME:EDT
DTSTART:20230312T070000
END:DAYLIGHT
BEGIN:STANDARD
TZOFFSETFROM:-0400
TZOFFSETTO:-0500
TZNAME:EST
DTSTART:20231105T060000
END:STANDARD
BEGIN:DAYLIGHT
TZOFFSETFROM:-0500
TZOFFSETTO:-0400
TZNAME:EDT
DTSTART:20240310T070000
END:DAYLIGHT
BEGIN:STANDARD
TZOFFSETFROM:-0400
TZOFFSETTO:-0500
TZNAME:EST
DTSTART:20241103T060000
END:STANDARD
BEGIN:DAYLIGHT
TZOFFSETFROM:-0500
TZOFFSETTO:-0400
TZNAME:EDT
DTSTART:20250309T070000
END:DAYLIGHT
BEGIN:STANDARD
TZOFFSETFROM:-0400
TZOFFSETTO:-0500
TZNAME:EST
DTSTART:20251102T060000
END:STANDARD
END:VTIMEZONE
BEGIN:VEVENT
DTSTART;TZID=America/New_York:20240821T100000
DTEND;TZID=America/New_York:20240821T113000
DTSTAMP:20260424T161443
CREATED:20240806T132114Z
LAST-MODIFIED:20240815T134655Z
UID:32051-1724234400-1724239800@obo.columbiasc.gov
SUMMARY:The Impact of AI on Small Businesses
DESCRIPTION:The Office of Business Opportunities will be hosting The Impact of AI on Small Businesses webinar on Thursday\, August 21st beginning at 10:00AM! \nJoin us and our featured presenter\, Donna Davis of DW Davis Consulting\, LLC as we dive into the discussion of artificial intelligence (AI) and how it will impact small businesses! \nFor more information and to register\, go to The Impact of AI on Small Businesses Eventbrite page!
URL:https://obo.columbiasc.gov/event/the-impact-of-ai-on-small-businesses/
LOCATION:Virtual Event
END:VEVENT
END:VCALENDAR