BEGIN:VCALENDAR
VERSION:2.0
PRODID:-//City of Columbia OBO - ECPv6.15.15//NONSGML v1.0//EN
CALSCALE:GREGORIAN
METHOD:PUBLISH
X-WR-CALNAME:City of Columbia OBO
X-ORIGINAL-URL:https://obo.columbiasc.gov
X-WR-CALDESC:Events for City of Columbia OBO
REFRESH-INTERVAL;VALUE=DURATION:PT1H
X-Robots-Tag:noindex
X-PUBLISHED-TTL:PT1H
BEGIN:VTIMEZONE
TZID:America/New_York
BEGIN:DAYLIGHT
TZOFFSETFROM:-0500
TZOFFSETTO:-0400
TZNAME:EDT
DTSTART:20230312T070000
END:DAYLIGHT
BEGIN:STANDARD
TZOFFSETFROM:-0400
TZOFFSETTO:-0500
TZNAME:EST
DTSTART:20231105T060000
END:STANDARD
BEGIN:DAYLIGHT
TZOFFSETFROM:-0500
TZOFFSETTO:-0400
TZNAME:EDT
DTSTART:20240310T070000
END:DAYLIGHT
BEGIN:STANDARD
TZOFFSETFROM:-0400
TZOFFSETTO:-0500
TZNAME:EST
DTSTART:20241103T060000
END:STANDARD
BEGIN:DAYLIGHT
TZOFFSETFROM:-0500
TZOFFSETTO:-0400
TZNAME:EDT
DTSTART:20250309T070000
END:DAYLIGHT
BEGIN:STANDARD
TZOFFSETFROM:-0400
TZOFFSETTO:-0500
TZNAME:EST
DTSTART:20251102T060000
END:STANDARD
END:VTIMEZONE
BEGIN:VEVENT
DTSTART;TZID=America/New_York:20240815T090000
DTEND;TZID=America/New_York:20240815T153000
DTSTAMP:20260424T154702
CREATED:20240709T124504Z
LAST-MODIFIED:20240709T124504Z
UID:31994-1723712400-1723735800@obo.columbiasc.gov
SUMMARY:2nd Annual South Carolina Business Summit
DESCRIPTION:The Benedict College Women’s Business Center will host the 2nd Annual South Carolina Business Summit on Thursday\, August 15th beginning at 9:00AM at the Richland Two Institute of Innovation (R2i2).  During the summit there will be a keynote presentation by Mimi Striblin\, owner of The Tiny Tassel\, presentations\, a pitch competition and more! \nRegistration for this event is $60.00.  To register now\, click here to go to the South Carolina Business Summit webpage!  For more information\, contact the Benedict College Women’s Business Center at (803)705-4641 or email them at info@bcwbc.org!
URL:https://obo.columbiasc.gov/event/2nd-annual-south-carolina-business-summit/
LOCATION:Richland Two Institute Of Innovation (R2i2)\, 763 Fashion Drive\, Columbia\, SC\, 29229\, United States
END:VEVENT
END:VCALENDAR