BEGIN:VCALENDAR
VERSION:2.0
PRODID:-//City of Columbia OBO - ECPv6.15.15//NONSGML v1.0//EN
CALSCALE:GREGORIAN
METHOD:PUBLISH
X-ORIGINAL-URL:https://obo.columbiasc.gov
X-WR-CALDESC:Events for City of Columbia OBO
REFRESH-INTERVAL;VALUE=DURATION:PT1H
X-Robots-Tag:noindex
X-PUBLISHED-TTL:PT1H
BEGIN:VTIMEZONE
TZID:America/New_York
BEGIN:DAYLIGHT
TZOFFSETFROM:-0500
TZOFFSETTO:-0400
TZNAME:EDT
DTSTART:20230312T070000
END:DAYLIGHT
BEGIN:STANDARD
TZOFFSETFROM:-0400
TZOFFSETTO:-0500
TZNAME:EST
DTSTART:20231105T060000
END:STANDARD
BEGIN:DAYLIGHT
TZOFFSETFROM:-0500
TZOFFSETTO:-0400
TZNAME:EDT
DTSTART:20240310T070000
END:DAYLIGHT
BEGIN:STANDARD
TZOFFSETFROM:-0400
TZOFFSETTO:-0500
TZNAME:EST
DTSTART:20241103T060000
END:STANDARD
BEGIN:DAYLIGHT
TZOFFSETFROM:-0500
TZOFFSETTO:-0400
TZNAME:EDT
DTSTART:20250309T070000
END:DAYLIGHT
BEGIN:STANDARD
TZOFFSETFROM:-0400
TZOFFSETTO:-0500
TZNAME:EST
DTSTART:20251102T060000
END:STANDARD
END:VTIMEZONE
BEGIN:VEVENT
DTSTART;TZID=America/New_York:20240501T090000
DTEND;TZID=America/New_York:20240501T153000
DTSTAMP:20260424T203804
CREATED:20240319T155855Z
LAST-MODIFIED:20240410T175215Z
UID:31588-1714554000-1714577400@obo.columbiasc.gov
SUMMARY:City of Columbia's 11th Annual Small Business Week Conference
DESCRIPTION:  \n \n  \nThe City of Columbia’s Office of Business Opportunities will be hosting the City of Columbia’s 11th Annual Small Business Week Conference on Wednesday\, May 1st at the Embassy Suites by Hilton Columbia Greystone! \nThis year’s keynote speaker will be Dr. Stephanie Kirkland\, CEO and Founder of Identity Dynamics\, LLC.  Also\, social media expert Ken Walker will serve as our Master of Ceremony!  During the conference\, there will be breakout sessions with community resource partners and local business owners on topics relating to small business owners and entrepreneurs.  Also\, the U.S. Small Business Administration will have their awards ceremony and matchmaking session beginning at 11:30AM! \nFor more information and to purchase a ticket\, click here to go to OBO’s Eventbrite page!
URL:https://obo.columbiasc.gov/event/city-of-columbias-11th-annual-small-business-week-conference/
LOCATION:Embassy Suites by Hilton Columbia Greystone\, 200 Stoneridge Drive\, Columbia\, SC\, 29210\, United States
ORGANIZER;CN="Kalenna Ginyard":MAILTO:Kalenna.Ginyard@columbiasc.gov
END:VEVENT
END:VCALENDAR