BEGIN:VCALENDAR
VERSION:2.0
PRODID:-//City of Columbia OBO - ECPv6.15.15//NONSGML v1.0//EN
CALSCALE:GREGORIAN
METHOD:PUBLISH
X-WR-CALNAME:City of Columbia OBO
X-ORIGINAL-URL:https://obo.columbiasc.gov
X-WR-CALDESC:Events for City of Columbia OBO
REFRESH-INTERVAL;VALUE=DURATION:PT1H
X-Robots-Tag:noindex
X-PUBLISHED-TTL:PT1H
BEGIN:VTIMEZONE
TZID:America/New_York
BEGIN:DAYLIGHT
TZOFFSETFROM:-0500
TZOFFSETTO:-0400
TZNAME:EDT
DTSTART:20230312T070000
END:DAYLIGHT
BEGIN:STANDARD
TZOFFSETFROM:-0400
TZOFFSETTO:-0500
TZNAME:EST
DTSTART:20231105T060000
END:STANDARD
BEGIN:DAYLIGHT
TZOFFSETFROM:-0500
TZOFFSETTO:-0400
TZNAME:EDT
DTSTART:20240310T070000
END:DAYLIGHT
BEGIN:STANDARD
TZOFFSETFROM:-0400
TZOFFSETTO:-0500
TZNAME:EST
DTSTART:20241103T060000
END:STANDARD
BEGIN:DAYLIGHT
TZOFFSETFROM:-0500
TZOFFSETTO:-0400
TZNAME:EDT
DTSTART:20250309T070000
END:DAYLIGHT
BEGIN:STANDARD
TZOFFSETFROM:-0400
TZOFFSETTO:-0500
TZNAME:EST
DTSTART:20251102T060000
END:STANDARD
END:VTIMEZONE
BEGIN:VEVENT
DTSTART;TZID=America/New_York:20240323T100000
DTEND;TZID=America/New_York:20240323T120000
DTSTAMP:20260424T234314
CREATED:20240318T205332Z
LAST-MODIFIED:20240318T205332Z
UID:31575-1711188000-1711195200@obo.columbiasc.gov
SUMMARY:Show Me The Money: How to Finance Your Business
DESCRIPTION:  \nThe Richland County Alumnae Chapter of Delta Sigma Theta Sorority\, Inc.  is hosting the Show Me The Money: How To Finance Your Business webinar on Saturday\, March 23rd beginning at 10:00AM via Zoom. \nMr. Allen Brown of the SC Community Loan Fund and OBO Director\, Ayesha Driggers will be participating in this event.  For more information and to register\, click here to go to the event registration page!
URL:https://obo.columbiasc.gov/event/show-me-the-money-how-to-finance-your-business/
LOCATION:Virtual Event
END:VEVENT
END:VCALENDAR