BEGIN:VCALENDAR
VERSION:2.0
PRODID:-//City of Columbia OBO - ECPv6.15.15//NONSGML v1.0//EN
CALSCALE:GREGORIAN
METHOD:PUBLISH
X-WR-CALNAME:City of Columbia OBO
X-ORIGINAL-URL:https://obo.columbiasc.gov
X-WR-CALDESC:Events for City of Columbia OBO
REFRESH-INTERVAL;VALUE=DURATION:PT1H
X-Robots-Tag:noindex
X-PUBLISHED-TTL:PT1H
BEGIN:VTIMEZONE
TZID:America/New_York
BEGIN:DAYLIGHT
TZOFFSETFROM:-0500
TZOFFSETTO:-0400
TZNAME:EDT
DTSTART:20230312T070000
END:DAYLIGHT
BEGIN:STANDARD
TZOFFSETFROM:-0400
TZOFFSETTO:-0500
TZNAME:EST
DTSTART:20231105T060000
END:STANDARD
BEGIN:DAYLIGHT
TZOFFSETFROM:-0500
TZOFFSETTO:-0400
TZNAME:EDT
DTSTART:20240310T070000
END:DAYLIGHT
BEGIN:STANDARD
TZOFFSETFROM:-0400
TZOFFSETTO:-0500
TZNAME:EST
DTSTART:20241103T060000
END:STANDARD
BEGIN:DAYLIGHT
TZOFFSETFROM:-0500
TZOFFSETTO:-0400
TZNAME:EDT
DTSTART:20250309T070000
END:DAYLIGHT
BEGIN:STANDARD
TZOFFSETFROM:-0400
TZOFFSETTO:-0500
TZNAME:EST
DTSTART:20251102T060000
END:STANDARD
END:VTIMEZONE
BEGIN:VEVENT
DTSTART;TZID=America/New_York:20240314T100000
DTEND;TZID=America/New_York:20240314T120000
DTSTAMP:20260424T234314
CREATED:20240228T165220Z
LAST-MODIFIED:20240228T165220Z
UID:31494-1710410400-1710417600@obo.columbiasc.gov
SUMMARY:Federal Tax Updates For Your Small Business
DESCRIPTION:The City of Columbia’s Office of Business Opportunities will be hosting the Federal Tax Updates For Your Small Business webinar on Thursday\, March 14th.  Senior Stakeholder Liaison\, Evette Davis from the Internal Revenue Service (IRS) will be providing important information and resources to small business owners on preparing for the 2024 tax season! \nFor more information and to register\, click here to go to our Eventbrite page!
URL:https://obo.columbiasc.gov/event/federal-tax-updates-for-your-small-business/
LOCATION:Virtual Event
END:VEVENT
END:VCALENDAR