BEGIN:VCALENDAR
VERSION:2.0
PRODID:-//City of Columbia OBO - ECPv6.15.15//NONSGML v1.0//EN
CALSCALE:GREGORIAN
METHOD:PUBLISH
X-WR-CALNAME:City of Columbia OBO
X-ORIGINAL-URL:https://obo.columbiasc.gov
X-WR-CALDESC:Events for City of Columbia OBO
REFRESH-INTERVAL;VALUE=DURATION:PT1H
X-Robots-Tag:noindex
X-PUBLISHED-TTL:PT1H
BEGIN:VTIMEZONE
TZID:America/New_York
BEGIN:DAYLIGHT
TZOFFSETFROM:-0500
TZOFFSETTO:-0400
TZNAME:EDT
DTSTART:20220313T070000
END:DAYLIGHT
BEGIN:STANDARD
TZOFFSETFROM:-0400
TZOFFSETTO:-0500
TZNAME:EST
DTSTART:20221106T060000
END:STANDARD
BEGIN:DAYLIGHT
TZOFFSETFROM:-0500
TZOFFSETTO:-0400
TZNAME:EDT
DTSTART:20230312T070000
END:DAYLIGHT
BEGIN:STANDARD
TZOFFSETFROM:-0400
TZOFFSETTO:-0500
TZNAME:EST
DTSTART:20231105T060000
END:STANDARD
BEGIN:DAYLIGHT
TZOFFSETFROM:-0500
TZOFFSETTO:-0400
TZNAME:EDT
DTSTART:20240310T070000
END:DAYLIGHT
BEGIN:STANDARD
TZOFFSETFROM:-0400
TZOFFSETTO:-0500
TZNAME:EST
DTSTART:20241103T060000
END:STANDARD
END:VTIMEZONE
BEGIN:VEVENT
DTSTART;TZID=America/New_York:20231005T180000
DTEND;TZID=America/New_York:20231005T193000
DTSTAMP:20260425T213807
CREATED:20230918T155021Z
LAST-MODIFIED:20230918T155021Z
UID:30761-1696528800-1696534200@obo.columbiasc.gov
SUMMARY:Bridging the Generational Gap in the Workplace
DESCRIPTION:Join the Office of Business Opportunities on Thursday\, October 5th at the Busby Street Community Center for this informative workshop on Bridging the Generational Gap in the Workplace! \nTyson K. Brown of Project OneWay will be discussing the generational gap with employees in the workplace and will cover topics on understanding the importance of healthy and complete communication between older and younger generations and how to engage a younger demographic in the workplace in spite of lack of relatability between age groups. \nFor more information and to register\, click here to go to OBO’s Eventbrite page!
URL:https://obo.columbiasc.gov/event/bridging-the-generational-gap-in-the-workplace/
LOCATION:Busby Street Community Center\, 1735 Busby Streeet\, Columbia\, SC\, 29203\, United States
ORGANIZER;CN="Kalenna Ginyard":MAILTO:Kalenna.Ginyard@columbiasc.gov
END:VEVENT
END:VCALENDAR