BEGIN:VCALENDAR
VERSION:2.0
PRODID:-//City of Columbia OBO - ECPv6.15.15//NONSGML v1.0//EN
CALSCALE:GREGORIAN
METHOD:PUBLISH
X-WR-CALNAME:City of Columbia OBO
X-ORIGINAL-URL:https://obo.columbiasc.gov
X-WR-CALDESC:Events for City of Columbia OBO
REFRESH-INTERVAL;VALUE=DURATION:PT1H
X-Robots-Tag:noindex
X-PUBLISHED-TTL:PT1H
BEGIN:VTIMEZONE
TZID:America/New_York
BEGIN:DAYLIGHT
TZOFFSETFROM:-0500
TZOFFSETTO:-0400
TZNAME:EDT
DTSTART:20220313T070000
END:DAYLIGHT
BEGIN:STANDARD
TZOFFSETFROM:-0400
TZOFFSETTO:-0500
TZNAME:EST
DTSTART:20221106T060000
END:STANDARD
BEGIN:DAYLIGHT
TZOFFSETFROM:-0500
TZOFFSETTO:-0400
TZNAME:EDT
DTSTART:20230312T070000
END:DAYLIGHT
BEGIN:STANDARD
TZOFFSETFROM:-0400
TZOFFSETTO:-0500
TZNAME:EST
DTSTART:20231105T060000
END:STANDARD
BEGIN:DAYLIGHT
TZOFFSETFROM:-0500
TZOFFSETTO:-0400
TZNAME:EDT
DTSTART:20240310T070000
END:DAYLIGHT
BEGIN:STANDARD
TZOFFSETFROM:-0400
TZOFFSETTO:-0500
TZNAME:EST
DTSTART:20241103T060000
END:STANDARD
END:VTIMEZONE
BEGIN:VEVENT
DTSTART;TZID=America/New_York:20230926T180000
DTEND;TZID=America/New_York:20230926T200000
DTSTAMP:20260425T184317
CREATED:20230821T180316Z
LAST-MODIFIED:20230821T202258Z
UID:30664-1695751200-1695758400@obo.columbiasc.gov
SUMMARY:All Access Columbia
DESCRIPTION:The City of Columbia’s Community Development Department will be hosting All Access Columbia: Business Funding & Development Workshop on Tuesday\, September 26th from 6:00 – 8:00PM at the Earlewood Park Community Center\, 1113 Recreation Drive\, Columbia\, SC 29203. \nThe City of Columbia Community Development\, Office of Business Opportunities (OBO)\, and the Columbia Empowerment Zone\, Inc. will be participating in this event to provide information and resources on business funding and exploration of business needs. \nFor more information and to register\, click HERE to register on the City’s registration page!
URL:https://obo.columbiasc.gov/event/city-of-columbia-community-development-all-access-columbia/
LOCATION:Earlewood Park Community Center\, 1113 Recreation Drive\, Columbia\, SC\, 29203\, United States
END:VEVENT
END:VCALENDAR