BEGIN:VCALENDAR
VERSION:2.0
PRODID:-//City of Columbia OBO - ECPv6.15.15//NONSGML v1.0//EN
CALSCALE:GREGORIAN
METHOD:PUBLISH
X-WR-CALNAME:City of Columbia OBO
X-ORIGINAL-URL:https://obo.columbiasc.gov
X-WR-CALDESC:Events for City of Columbia OBO
REFRESH-INTERVAL;VALUE=DURATION:PT1H
X-Robots-Tag:noindex
X-PUBLISHED-TTL:PT1H
BEGIN:VTIMEZONE
TZID:America/New_York
BEGIN:DAYLIGHT
TZOFFSETFROM:-0500
TZOFFSETTO:-0400
TZNAME:EDT
DTSTART:20220313T070000
END:DAYLIGHT
BEGIN:STANDARD
TZOFFSETFROM:-0400
TZOFFSETTO:-0500
TZNAME:EST
DTSTART:20221106T060000
END:STANDARD
BEGIN:DAYLIGHT
TZOFFSETFROM:-0500
TZOFFSETTO:-0400
TZNAME:EDT
DTSTART:20230312T070000
END:DAYLIGHT
BEGIN:STANDARD
TZOFFSETFROM:-0400
TZOFFSETTO:-0500
TZNAME:EST
DTSTART:20231105T060000
END:STANDARD
BEGIN:DAYLIGHT
TZOFFSETFROM:-0500
TZOFFSETTO:-0400
TZNAME:EDT
DTSTART:20240310T070000
END:DAYLIGHT
BEGIN:STANDARD
TZOFFSETFROM:-0400
TZOFFSETTO:-0500
TZNAME:EST
DTSTART:20241103T060000
END:STANDARD
END:VTIMEZONE
BEGIN:VEVENT
DTSTART;TZID=America/New_York:20230914T110000
DTEND;TZID=America/New_York:20230914T123000
DTSTAMP:20260425T184318
CREATED:20230821T201753Z
LAST-MODIFIED:20230821T201753Z
UID:30672-1694689200-1694694600@obo.columbiasc.gov
SUMMARY:Selling My Business: Tools and Tips on Copyrights\, Trademarks\, and Contracts
DESCRIPTION:The Office of Business Opportunities will host the Selling My Business: Tools and Tips on Copyrights\, Trademarks\, and Contracts workshop on Thursday\, September 14th beginning at 11:00AM at the Earlewood Park Community Center\, 1113 Recreation Drive\, Columbia\, SC 29203! \nDuring this workshop\, our featured presenter Doug Lineberry will teach participants information and resources on copyrights\, protecting your trademarks\, and contracts.  For more information and to register\, click here to go to the OBO Eventbrite page!
URL:https://obo.columbiasc.gov/event/selling-my-business-tools-and-tips-on-copyrights-trademarks-and-contracts/
LOCATION:Earlewood Park Community Center\, 1113 Recreation Drive\, Columbia\, SC\, 29203\, United States
ORGANIZER;CN="Kalenna Ginyard":MAILTO:Kalenna.Ginyard@columbiasc.gov
END:VEVENT
END:VCALENDAR