BEGIN:VCALENDAR
VERSION:2.0
PRODID:-//City of Columbia OBO - ECPv6.15.15//NONSGML v1.0//EN
CALSCALE:GREGORIAN
METHOD:PUBLISH
X-WR-CALNAME:City of Columbia OBO
X-ORIGINAL-URL:https://obo.columbiasc.gov
X-WR-CALDESC:Events for City of Columbia OBO
REFRESH-INTERVAL;VALUE=DURATION:PT1H
X-Robots-Tag:noindex
X-PUBLISHED-TTL:PT1H
BEGIN:VTIMEZONE
TZID:America/New_York
BEGIN:DAYLIGHT
TZOFFSETFROM:-0500
TZOFFSETTO:-0400
TZNAME:EDT
DTSTART:20220313T070000
END:DAYLIGHT
BEGIN:STANDARD
TZOFFSETFROM:-0400
TZOFFSETTO:-0500
TZNAME:EST
DTSTART:20221106T060000
END:STANDARD
BEGIN:DAYLIGHT
TZOFFSETFROM:-0500
TZOFFSETTO:-0400
TZNAME:EDT
DTSTART:20230312T070000
END:DAYLIGHT
BEGIN:STANDARD
TZOFFSETFROM:-0400
TZOFFSETTO:-0500
TZNAME:EST
DTSTART:20231105T060000
END:STANDARD
BEGIN:DAYLIGHT
TZOFFSETFROM:-0500
TZOFFSETTO:-0400
TZNAME:EDT
DTSTART:20240310T070000
END:DAYLIGHT
BEGIN:STANDARD
TZOFFSETFROM:-0400
TZOFFSETTO:-0500
TZNAME:EST
DTSTART:20241103T060000
END:STANDARD
END:VTIMEZONE
BEGIN:VEVENT
DTSTART;TZID=America/New_York:20230913T080000
DTEND;TZID=America/New_York:20230913T140000
DTSTAMP:20260425T184317
CREATED:20230901T192812Z
LAST-MODIFIED:20230901T192812Z
UID:30717-1694592000-1694613600@obo.columbiasc.gov
SUMMARY:Richland County OSBO 5th Annual Small Business Conference
DESCRIPTION:Richland County Office of Small Business Opportunity (OSBO) will be hosting their 5th Annual Engage Richland: Unveil Your Potential event on Wednesday\, September 13th from 8:00AM – 2:00PM at R2i2 Convention Center\, 763 Fashion Drive\, Columbia\, SC 29229. \nFor more information and to register\, click here to go to Richland County OSBO’s Eventbrite page!
URL:https://obo.columbiasc.gov/event/richland-county-osbo-5th-annual-small-business-conference/
LOCATION:Richland Two Institute Of Innovation (R2i2)\, 763 Fashion Drive\, Columbia\, SC\, 29229\, United States
END:VEVENT
END:VCALENDAR